Back to the "Multiple platform build/check report" A  B  C  D  E  F  G  H [I] J  K  L  M  N  O  P  Q  R  S  T  U  V  W  X  Y  Z 

Package 333/658HostnameOS / ArchBUILDCHECKBUILD BIN
imageHTS 1.9.1
Gregoire Pau
Snapshot Date: 2013-03-23 17:02:20 -0700 (Sat, 23 Mar 2013)
URL: https://hedgehog.fhcrc.org/bioconductor/trunk/madman/Rpacks/imageHTS
Last Changed Rev: 74692 / Revision: 74756
Last Changed Date: 2013-03-22 11:37:50 -0700 (Fri, 22 Mar 2013)
george2 Linux (Ubuntu 12.04.1 LTS) / x86_64  OK  OK 
moscato2 Windows Server 2008 R2 Enterprise SP1 (64-bit) / x64  OK  OK  OK 
petty Mac OS X Leopard (10.5.8) / i386  OK  OK  OK 
pelham Mac OS X Snow Leopard (10.6.8) / x86_64  OK [ OK ] OK 

Summary

Package: imageHTS
Version: 1.9.1
Command: /Library/Frameworks/R.framework/Versions/Current/Resources/bin/R CMD check --no-vignettes --timings --no-multiarch imageHTS_1.9.1.tar.gz
StartedAt: 2013-03-24 06:45:31 -0700 (Sun, 24 Mar 2013)
EndedAt: 2013-03-24 06:52:43 -0700 (Sun, 24 Mar 2013)
EllapsedTime: 432.4 seconds
RetCode: 0
Status:  OK 
CheckDir: imageHTS.Rcheck
Warnings: 0

Command output

* using log directory '/Users/biocbuild/bbs-2.12-bioc/meat/imageHTS.Rcheck'
* using R version 3.0.0 beta (2013-03-21 r62346)
* using platform: x86_64-apple-darwin10.8.0 (64-bit)
* using session charset: ASCII
* using option '--no-vignettes'
* checking for file 'imageHTS/DESCRIPTION' ... OK
* this is package 'imageHTS' version '1.9.1'
* checking package namespace information ... OK
* checking package dependencies ... OK
* checking if this is a source package ... OK
* checking if there is a namespace ... OK
* checking for hidden files and directories ... NOTE
Found the following hidden files and directories:
  .BBSoptions
These were most likely included in error. See section 'Package
structure' in the 'Writing R Extensions' manual.
* checking for portable file names ... OK
* checking for sufficient/correct file permissions ... OK
* checking whether package 'imageHTS' can be installed ... [29s/30s] OK
* checking installed package size ... OK
* checking package directory ... OK
* checking DESCRIPTION meta-information ... OK
* checking top-level files ... OK
* checking for left-over files ... OK
* checking index information ... OK
* checking package subdirectories ... OK
* checking R files for non-ASCII characters ... OK
* checking R files for syntax errors ... OK
* checking whether the package can be loaded ... OK
* checking whether the package can be loaded with stated dependencies ... OK
* checking whether the package can be unloaded cleanly ... OK
* checking whether the namespace can be loaded with stated dependencies ... OK
* checking whether the namespace can be unloaded cleanly ... OK
* checking for unstated dependencies in R code ... OK
* checking S3 generic/method consistency ... OK
* checking replacement functions ... OK
* checking foreign function calls ... OK
* checking R code for possible problems ... OK
* checking Rd files ... OK
* checking Rd metadata ... OK
* checking Rd cross-references ... OK
* checking for missing documentation entries ... OK
* checking for code/documentation mismatches ... OK
* checking Rd \usage sections ... OK
* checking Rd contents ... OK
* checking for unstated dependencies in examples ... OK
* checking installed files from 'inst/doc' ... OK
* checking examples ... [162s/166s] OK
Examples with CPU or elapsed time > 5s
                  user system elapsed
extractFeatures 46.811  4.308  51.278
countObjects    31.832  1.419  33.741
segmentWells    14.487  1.659  16.188
segmentYeastBF   7.976  1.795   9.791
getWellFeatures  7.075  0.040   7.164
getUnames        5.731  0.031   5.970
fileHTS          5.596  0.052   7.501
zprime           5.351  0.067   5.499
* checking for unstated dependencies in vignettes ... OK
* checking package vignettes in 'inst/doc' ... OK
* checking running R code from vignettes ... SKIPPED
* checking re-building of vignettes ... SKIPPED
* checking PDF version of manual ... OK

NOTE: There was 1 note.
See
  '/Users/biocbuild/bbs-2.12-bioc/meat/imageHTS.Rcheck/00check.log'
for details.

imageHTS.Rcheck/00install.out:

* installing *source* package 'imageHTS' ...
** R
** inst
** preparing package for lazy loading
** help
*** installing help indices
** building package indices
** installing vignettes
   'imageHTS-introduction.Rnw' 
** testing if installed package can be loaded
* DONE (imageHTS)

imageHTS.Rcheck/imageHTS-Ex.timings:

nameusersystemelapsed
collectCellFeatures0.0070.0020.009
countObjects31.832 1.41933.741
extractFeatures46.811 4.30851.278
fileHTS5.5960.0527.501
getImageConf2.9640.0723.108
getUnames5.7310.0315.970
getWellFeatures7.0750.0407.164
highlightSegmentation0.0020.0040.006
installCellPicker4.2930.0424.369
makeCellHTS0.0060.0120.018
parseDCF0.0080.0070.017
parseImageConf2.8390.0282.882
popCellPicker2.5990.0152.617
prw2uname0.0100.0090.020
readLearnTS0.0020.0040.005
segmentATH0.0020.0050.007
segmentWells14.487 1.65916.188
segmentYeastBF7.9761.7959.791
summarizeWells0.0060.0110.017
zprime5.3510.0675.499