| globaltest 5.13.1 Jelle Goeman
 
 | Snapshot Date: 2013-03-24 17:01:43 -0700 (Sun, 24 Mar 2013) |  | URL: https://hedgehog.fhcrc.org/bioconductor/trunk/madman/Rpacks/globaltest |  | Last Changed Rev: 70706 / Revision: 74774 |  | Last Changed Date: 2012-10-21 07:46:03 -0700 (Sun, 21 Oct 2012) | 
 | george2 | Linux (Ubuntu 12.04.1 LTS) / x86_64 | OK | OK |  | 
| moscato2 | Windows Server 2008 R2 Enterprise SP1 (64-bit) / x64 | OK | OK | OK | 
| petty | Mac OS X Leopard (10.5.8) / i386 | OK | OK | [ OK ] | 
>>>>>>> 
>>>>>>> INSTALLATION WITH 'R CMD INSTALL --preclean --no-multiarch --library=globaltest.buildbin-libdir globaltest_5.13.1.tar.gz'
>>>>>>> 
* installing *source* package 'globaltest' ...
** R
** inst
** preparing package for lazy loading
Creating a generic function for 'sort' from package 'base' in package 'globaltest'
Creating a generic function for 'model.matrix' from package 'stats' in package 'globaltest'
Creating a generic function for 'coefficients' from package 'stats' in package 'globaltest'
Creating a generic function for 'fitted.values' from package 'stats' in package 'globaltest'
Creating a generic function for 'residuals' from package 'stats' in package 'globaltest'
** help
*** installing help indices
** building package indices
** installing vignettes
   'GlobalTest.Rnw' 
** testing if installed package can be loaded
* DONE (globaltest)