girafe 1.11.4 J. Toedling
 | Snapshot Date: 2013-03-23 17:02:20 -0700 (Sat, 23 Mar 2013) |  | URL: https://hedgehog.fhcrc.org/bioconductor/trunk/madman/Rpacks/girafe |  | Last Changed Rev: 74599 / Revision: 74756 |  | Last Changed Date: 2013-03-20 02:38:24 -0700 (Wed, 20 Mar 2013) |  
  | george2  | Linux (Ubuntu 12.04.1 LTS) / x86_64  |  OK  |  OK  |  | 
| moscato2  | Windows Server 2008 R2 Enterprise SP1 (64-bit) / x64  |  OK  |  OK  |  OK  | 
| petty  | Mac OS X Leopard (10.5.8) / i386  |  OK  |  OK  |  OK  | 
| pelham  | Mac OS X Snow Leopard (10.6.8) / x86_64  |  OK  |  OK  | [ OK ] | 
* installing *source* package 'girafe' ...
** libs
llvm-g++-4.2 -arch x86_64 -I/Library/Frameworks/R.framework/Resources/include -DNDEBUG  -I/usr/local/include    -fPIC  -mtune=core2 -g -O2  -c coverage.cpp -o coverage.o
llvm-gcc-4.2 -arch x86_64 -std=gnu99 -I/Library/Frameworks/R.framework/Resources/include -DNDEBUG  -I/usr/local/include    -fPIC  -mtune=core2 -g -O2  -c girafe_init.c -o girafe_init.o
llvm-g++-4.2 -arch x86_64 -dynamiclib -Wl,-headerpad_max_install_names -undefined dynamic_lookup -single_module -multiply_defined suppress -L/usr/local/lib -o girafe.so coverage.o girafe_init.o -F/Library/Frameworks/R.framework/.. -framework R -Wl,-framework -Wl,CoreFoundation
installing to /Users/biocbuild/bbs-2.12-bioc/meat/girafe.buildbin-libdir/girafe/libs
** R
** inst
** preparing package for lazy loading
Warning: replacing previous import 'coerce' when loading 'intervals'
Warning: replacing previous import 'initialize' when loading 'intervals'
Creating a generic function for 'hist' from package 'graphics' in package 'girafe'
Creating a generic function for 'sample' from package 'base' in package 'girafe'
** help
*** installing help indices
** building package indices
** installing vignettes
   'girafe.Rnw' 
** testing if installed package can be loaded
Warning: replacing previous import 'coerce' when loading 'intervals'
Warning: replacing previous import 'initialize' when loading 'intervals'
packaged installation of 'girafe' as 'girafe_1.11.4.tgz'
* DONE (girafe)