genArise 1.35.1 IFC Development Team
| Snapshot Date: 2013-03-23 17:02:20 -0700 (Sat, 23 Mar 2013) | | URL: https://hedgehog.fhcrc.org/bioconductor/trunk/madman/Rpacks/genArise | | Last Changed Rev: 73901 / Revision: 74756 | | Last Changed Date: 2013-03-04 13:42:29 -0800 (Mon, 04 Mar 2013) |
| george2 | Linux (Ubuntu 12.04.1 LTS) / x86_64 | OK | OK | |
| moscato2 | Windows Server 2008 R2 Enterprise SP1 (64-bit) / x64 | OK | OK | OK |
| petty | Mac OS X Leopard (10.5.8) / i386 | OK | OK | OK |
| pelham | Mac OS X Snow Leopard (10.6.8) / x86_64 | OK | WARNINGS | [ OK ] |
* installing *source* package 'genArise' ...
** R
** data
** inst
** preparing package for lazy loading
Warning: loading Rplot failed
** help
*** installing help indices
** building package indices
** installing vignettes
'genArise.Rnw'
** testing if installed package can be loaded
Warning: loading Rplot failed
packaged installation of 'genArise' as 'genArise_1.35.1.tgz'
* DONE (genArise)