| Back to the "Multiple platform build/check report" | A B C D E [F] G H I J K L M N O P Q R S T U V W X Y Z |
| Package 231/658 | Hostname | OS / Arch | BUILD | CHECK | BUILD BIN | ||||
| flowUtils 1.19.1 Nishant Gopalakrishnan
| george2 | Linux (Ubuntu 12.04.1 LTS) / x86_64 | OK | OK | |||||
| moscato2 | Windows Server 2008 R2 Enterprise SP1 (64-bit) / x64 | OK | OK | OK | |||||
| petty | Mac OS X Leopard (10.5.8) / i386 | OK | OK | OK | |||||
| pelham | Mac OS X Snow Leopard (10.6.8) / x86_64 | OK | OK | [ OK ] |
| Package: flowUtils |
| Version: 1.19.1 |
| Command: rm -rf flowUtils.buildbin-libdir && mkdir flowUtils.buildbin-libdir && /Library/Frameworks/R.framework/Versions/Current/Resources/bin/R CMD INSTALL --build --no-multiarch --library=flowUtils.buildbin-libdir flowUtils_1.19.1.tar.gz |
| StartedAt: 2013-03-24 11:39:11 -0700 (Sun, 24 Mar 2013) |
| EndedAt: 2013-03-24 11:39:22 -0700 (Sun, 24 Mar 2013) |
| EllapsedTime: 10.8 seconds |
| RetCode: 0 |
| Status: OK |
| PackageFile: flowUtils_1.19.1.tgz |
| PackageFileSize: 78.98 KiB |
* installing *source* package 'flowUtils' ... ** R ** inst ** preparing package for lazy loading ** help *** installing help indices ** building package indices ** testing if installed package can be loaded packaged installation of 'flowUtils' as 'flowUtils_1.19.1.tgz' * DONE (flowUtils)