flowMerge 2.7.0 Greg Finak
Snapshot Date: 2013-03-23 17:02:20 -0700 (Sat, 23 Mar 2013) | URL: https://hedgehog.fhcrc.org/bioconductor/trunk/madman/Rpacks/flowMerge | Last Changed Rev: 70052 / Revision: 74756 | Last Changed Date: 2012-10-01 15:43:56 -0700 (Mon, 01 Oct 2012) |
| george2 | Linux (Ubuntu 12.04.1 LTS) / x86_64 | OK | OK | |
moscato2 | Windows Server 2008 R2 Enterprise SP1 (64-bit) / x64 | OK | OK | OK |
petty | Mac OS X Leopard (10.5.8) / i386 | OK | WARNINGS | OK |
pelham | Mac OS X Snow Leopard (10.6.8) / x86_64 | OK | OK | [ OK ] |
* installing *source* package 'flowMerge' ...
** R
** data
** inst
** preparing package for lazy loading
Warning: replacing previous import 'plot' when loading 'graphics'
'.find.package' is deprecated.
Use 'find.package' instead.
See help("Deprecated")
'.find.package' is deprecated.
Use 'find.package' instead.
See help("Deprecated")
'.find.package' is deprecated.
Use 'find.package' instead.
See help("Deprecated")
Warning in rgl.init(initValue) : RGL: GLX extension missing on server
Warning in fun(libname, pkgname) : error in rgl_init
Warning: replacing previous import 'Map' when loading 'flowClust'
Warning: replacing previous import 'sort' when loading 'flowCore'
Creating a generic function for 'merge' from package 'base' in package 'flowMerge'
** help
*** installing help indices
** building package indices
** installing vignettes
'flowMerge.Rnw'
** testing if installed package can be loaded
Warning: replacing previous import 'plot' when loading 'graphics'
'.find.package' is deprecated.
Use 'find.package' instead.
See help("Deprecated")
'.find.package' is deprecated.
Use 'find.package' instead.
See help("Deprecated")
'.find.package' is deprecated.
Use 'find.package' instead.
See help("Deprecated")
Warning in rgl.init(initValue) : RGL: GLX extension missing on server
Warning in fun(libname, pkgname) : error in rgl_init
Warning: replacing previous import 'Map' when loading 'flowClust'
Warning: replacing previous import 'sort' when loading 'flowCore'
packaged installation of 'flowMerge' as 'flowMerge_2.7.0.tgz'
* DONE (flowMerge)