| Back to the "Multiple platform build/check report" | A B C D [E] F G H I J K L M N O P Q R S T U V W X Y Z | 
| Package 209/658 | Hostname | OS / Arch | BUILD | CHECK | BUILD BIN | ||||
| externalVector 1.25.2 Bioconductor Package Maintainer 
 | george2 | Linux (Ubuntu 12.04.1 LTS) / x86_64 | [ OK ] | OK | |||||
| moscato2 | Windows Server 2008 R2 Enterprise SP1 (64-bit) / x64 | OK | OK | OK | |||||
| petty | Mac OS X Leopard (10.5.8) / i386 | OK | OK | OK | 
| Package: externalVector | 
| Version: 1.25.2 | 
| Command: /home/biocbuild/bbs-2.12-bioc/R/bin/R CMD build --keep-empty-dirs --no-resave-data externalVector | 
| StartedAt: 2013-03-24 21:06:34 -0700 (Sun, 24 Mar 2013) | 
| EndedAt: 2013-03-24 21:06:36 -0700 (Sun, 24 Mar 2013) | 
| EllapsedTime: 1.9 seconds | 
| RetCode: 0 | 
| Status: OK | 
| PackageFile: externalVector_1.25.2.tar.gz | 
| PackageFileSize: 82.11 KiB | 
* checking for file ‘externalVector/DESCRIPTION’ ... OK * preparing ‘externalVector’: * checking DESCRIPTION meta-information ... OK * cleaning src * checking for LF line-endings in source and make files * checking for empty or unneeded directories * building ‘externalVector_1.25.2.tar.gz’