clusterProfiler 1.7.1 Guangchuang Yu
Snapshot Date: 2013-03-24 17:01:43 -0700 (Sun, 24 Mar 2013) | URL: https://hedgehog.fhcrc.org/bioconductor/trunk/madman/Rpacks/clusterProfiler | Last Changed Rev: 74554 / Revision: 74774 | Last Changed Date: 2013-03-19 01:25:04 -0700 (Tue, 19 Mar 2013) |
| george2 | Linux (Ubuntu 12.04.1 LTS) / x86_64 | OK | WARNINGS | |
moscato2 | Windows Server 2008 R2 Enterprise SP1 (64-bit) / x64 | OK | WARNINGS | OK |
petty | Mac OS X Leopard (10.5.8) / i386 | OK | WARNINGS | [ OK ] |
>>>>>>>
>>>>>>> INSTALLATION WITH 'R CMD INSTALL --preclean --no-multiarch --library=clusterProfiler.buildbin-libdir clusterProfiler_1.7.1.tar.gz'
>>>>>>>
* installing *source* package 'clusterProfiler' ...
** R
** data
** inst
** preparing package for lazy loading
** help
*** installing help indices
** building package indices
** installing vignettes
'clusterProfiler.Rnw'
** testing if installed package can be loaded
* DONE (clusterProfiler)