| cellHTS2 2.23.2 Joseph Barry
 
 | Snapshot Date: 2013-03-24 17:01:43 -0700 (Sun, 24 Mar 2013) |  | URL: https://hedgehog.fhcrc.org/bioconductor/trunk/madman/Rpacks/cellHTS2 |  | Last Changed Rev: 73753 / Revision: 74774 |  | Last Changed Date: 2013-02-26 09:49:45 -0800 (Tue, 26 Feb 2013) | 
 | george2 | Linux (Ubuntu 12.04.1 LTS) / x86_64 | OK | OK |  | 
| moscato2 | Windows Server 2008 R2 Enterprise SP1 (64-bit) / x64 | OK | OK | OK | 
| petty | Mac OS X Leopard (10.5.8) / i386 | OK | OK | [ OK ] | 
>>>>>>> 
>>>>>>> INSTALLATION WITH 'R CMD INSTALL --preclean --no-multiarch --library=cellHTS2.buildbin-libdir cellHTS2_2.23.2.tar.gz'
>>>>>>> 
* installing *source* package 'cellHTS2' ...
** R
** data
** inst
** preparing package for lazy loading
Creating a generic function for 'lines' from package 'graphics' in package 'cellHTS2'
** help
*** installing help indices
** building package indices
** installing vignettes
   'cellhts2.Rnw' 
   'cellhts2Complete.Rnw' 
   'twoChannels.Rnw' 
   'twoWay.Rnw' 
** testing if installed package can be loaded
* DONE (cellHTS2)