biomvRCNS 0.99.3 Yang Du
Snapshot Date: 2013-03-24 17:01:43 -0700 (Sun, 24 Mar 2013) | URL: https://hedgehog.fhcrc.org/bioconductor/trunk/madman/Rpacks/biomvRCNS | Last Changed Rev: 74641 / Revision: 74774 | Last Changed Date: 2013-03-21 02:38:41 -0700 (Thu, 21 Mar 2013) |
| george2 | Linux (Ubuntu 12.04.1 LTS) / x86_64 | OK | OK | |
moscato2 | Windows Server 2008 R2 Enterprise SP1 (64-bit) / x64 | OK | OK | OK |
petty | Mac OS X Leopard (10.5.8) / i386 | OK | OK | [ OK ] |
>>>>>>>
>>>>>>> INSTALLATION WITH 'R CMD INSTALL --preclean --no-multiarch --library=biomvRCNS.buildbin-libdir biomvRCNS_0.99.3.tar.gz'
>>>>>>>
* installing *source* package 'biomvRCNS' ...
** libs
*** arch - i386
gcc -arch i386 -std=gnu99 -I/Library/Frameworks/R.framework/Resources/include -I/Library/Frameworks/R.framework/Resources/include/i386 -DNDEBUG -I/usr/local/include -fPIC -g -O2 -Wall -pedantic -c biomvRCNS.c -o biomvRCNS.o
gcc -arch i386 -std=gnu99 -dynamiclib -Wl,-headerpad_max_install_names -undefined dynamic_lookup -single_module -multiply_defined suppress -L/usr/local/lib -o biomvRCNS.so biomvRCNS.o -F/Library/Frameworks/R.framework/.. -framework R -Wl,-framework -Wl,CoreFoundation
installing to /Users/biocbuild/bbs-2.12-bioc/meat/biomvRCNS.buildbin-libdir/biomvRCNS/libs/i386
** R
** data
** inst
** preparing package for lazy loading
Creating a generic function for 'plot' from package 'graphics' in package 'biomvRCNS'
** help
*** installing help indices
** building package indices
** installing vignettes
'biomvRCNS.Rnw' using 'UTF-8'
** testing if installed package can be loaded
* DONE (biomvRCNS)
>>>>>>>
>>>>>>> FIXING LINKS FOR biomvRCNS.buildbin-libdir/biomvRCNS/libs/i386/biomvRCNS.so
>>>>>>>
install_name_tool -change "/usr/local/lib/libgcc_s.1.dylib" "/Library/Frameworks/R.framework/Versions/3.0/Resources/lib/libgcc_s.1.dylib" "biomvRCNS.buildbin-libdir/biomvRCNS/libs/i386/biomvRCNS.so"
install_name_tool -change "/usr/local/lib/libgfortran.2.dylib" "/Library/Frameworks/R.framework/Versions/3.0/Resources/lib/libgfortran.2.dylib" "biomvRCNS.buildbin-libdir/biomvRCNS/libs/i386/biomvRCNS.so"
install_name_tool -change "/usr/local/lib/libreadline.5.2.dylib" "/Library/Frameworks/R.framework/Versions/3.0/Resources/lib/libreadline.5.2.dylib" "biomvRCNS.buildbin-libdir/biomvRCNS/libs/i386/biomvRCNS.so"
install_name_tool -change "/usr/local/lib/libreadline.dylib" "/Library/Frameworks/R.framework/Versions/3.0/Resources/lib/libreadline.dylib" "biomvRCNS.buildbin-libdir/biomvRCNS/libs/i386/biomvRCNS.so"
>>>>>>>
>>>>>>> INSTALLATION OF x86_64 LIBS WITH 'R_ARCH=/x86_64 R CMD INSTALL --preclean --no-multiarch --no-test-load --library=biomvRCNS.buildbin-libdir --libs-only biomvRCNS_0.99.3.tar.gz'
>>>>>>>
* installing *source* package 'biomvRCNS' ...
** libs
*** arch - x86_64
gcc -arch x86_64 -std=gnu99 -I/Library/Frameworks/R.framework/Resources/include -I/Library/Frameworks/R.framework/Resources/include/x86_64 -DNDEBUG -I/usr/local/include -fPIC -g -O2 -Wall -pedantic -c biomvRCNS.c -o biomvRCNS.o
gcc -arch x86_64 -std=gnu99 -dynamiclib -Wl,-headerpad_max_install_names -undefined dynamic_lookup -single_module -multiply_defined suppress -L/usr/local/lib -o biomvRCNS.so biomvRCNS.o -F/Library/Frameworks/R.framework/.. -framework R -Wl,-framework -Wl,CoreFoundation
installing to /Users/biocbuild/bbs-2.12-bioc/meat/biomvRCNS.buildbin-libdir/biomvRCNS/libs/x86_64
* DONE (biomvRCNS)
>>>>>>>
>>>>>>> FIXING LINKS FOR biomvRCNS.buildbin-libdir/biomvRCNS/libs/x86_64/biomvRCNS.so
>>>>>>>
install_name_tool -change "/usr/local/lib/libgcc_s.1.dylib" "/Library/Frameworks/R.framework/Versions/3.0/Resources/lib/libgcc_s.1.dylib" "biomvRCNS.buildbin-libdir/biomvRCNS/libs/x86_64/biomvRCNS.so"
install_name_tool -change "/usr/local/lib/libgfortran.2.dylib" "/Library/Frameworks/R.framework/Versions/3.0/Resources/lib/libgfortran.2.dylib" "biomvRCNS.buildbin-libdir/biomvRCNS/libs/x86_64/biomvRCNS.so"
install_name_tool -change "/usr/local/lib/libreadline.5.2.dylib" "/Library/Frameworks/R.framework/Versions/3.0/Resources/lib/libreadline.5.2.dylib" "biomvRCNS.buildbin-libdir/biomvRCNS/libs/x86_64/biomvRCNS.so"
install_name_tool -change "/usr/local/lib/libreadline.dylib" "/Library/Frameworks/R.framework/Versions/3.0/Resources/lib/libreadline.dylib" "biomvRCNS.buildbin-libdir/biomvRCNS/libs/x86_64/biomvRCNS.so"