annotate 1.37.4 Bioconductor Package Maintainer
Snapshot Date: 2013-03-24 17:01:43 -0700 (Sun, 24 Mar 2013) | URL: https://hedgehog.fhcrc.org/bioconductor/trunk/madman/Rpacks/annotate | Last Changed Rev: 74245 / Revision: 74774 | Last Changed Date: 2013-03-12 14:59:04 -0700 (Tue, 12 Mar 2013) |
| george2 | Linux (Ubuntu 12.04.1 LTS) / x86_64 | OK | OK | |
moscato2 | Windows Server 2008 R2 Enterprise SP1 (64-bit) / x64 | OK | OK | OK |
petty | Mac OS X Leopard (10.5.8) / i386 | OK | OK | [ OK ] |
>>>>>>>
>>>>>>> INSTALLATION WITH 'R CMD INSTALL --preclean --no-multiarch --library=annotate.buildbin-libdir annotate_1.37.4.tar.gz'
>>>>>>>
* installing *source* package 'annotate' ...
** R
** data
** inst
** preparing package for lazy loading
** help
*** installing help indices
** building package indices
** installing vignettes
'GOusage.Rnw'
'annotate.Rnw'
'chromLoc.Rnw'
'prettyOutput.Rnw'
'query.Rnw'
'useDataPkgs.Rnw'
'useHomology.Rnw'
'useProbeInfo.Rnw'
** testing if installed package can be loaded
* DONE (annotate)