Back to the "Multiple platform build/check report" | [A] B C D E F G H I J K L M N O P Q R S T U V W X Y Z |
Package 4/658 | Hostname | OS / Arch | BUILD | CHECK | BUILD BIN | ||||
a4Core 1.7.0 Tobias Verbeke
| george2 | Linux (Ubuntu 12.04.1 LTS) / x86_64 | OK | OK | |||||
moscato2 | Windows Server 2008 R2 Enterprise SP1 (64-bit) / x64 | OK | OK | OK | |||||
petty | Mac OS X Leopard (10.5.8) / i386 | OK | OK | OK | |||||
pelham | Mac OS X Snow Leopard (10.6.8) / x86_64 | OK | OK | [ OK ] |
Package: a4Core |
Version: 1.7.0 |
Command: rm -rf a4Core.buildbin-libdir && mkdir a4Core.buildbin-libdir && /Library/Frameworks/R.framework/Versions/Current/Resources/bin/R CMD INSTALL --build --no-multiarch --library=a4Core.buildbin-libdir a4Core_1.7.0.tar.gz |
StartedAt: 2013-03-24 11:21:10 -0700 (Sun, 24 Mar 2013) |
EndedAt: 2013-03-24 11:21:23 -0700 (Sun, 24 Mar 2013) |
EllapsedTime: 12.8 seconds |
RetCode: 0 |
Status: OK |
PackageFile: a4Core_1.7.0.tgz |
PackageFileSize: 18.68 KiB |
* installing *source* package 'a4Core' ... ** R ** inst ** preparing package for lazy loading ** help *** installing help indices ** building package indices ** testing if installed package can be loaded packaged installation of 'a4Core' as 'a4Core_1.7.0.tgz' * DONE (a4Core)