a4 1.7.1 Tobias Verbeke , Willem Ligtenberg
 | Snapshot Date: 2013-03-24 17:01:43 -0700 (Sun, 24 Mar 2013) |  | URL: https://hedgehog.fhcrc.org/bioconductor/trunk/madman/Rpacks/a4 |  | Last Changed Rev: 73197 / Revision: 74774 |  | Last Changed Date: 2013-02-06 01:37:55 -0800 (Wed, 06 Feb 2013) |  
  | george2  | Linux (Ubuntu 12.04.1 LTS) / x86_64  |  OK  |  OK  |  | 
| moscato2  | Windows Server 2008 R2 Enterprise SP1 (64-bit) / x64  |  OK  |  OK  |  OK  | 
| petty  | Mac OS X Leopard (10.5.8) / i386  |  OK  |  WARNINGS  | [ OK ] | 
>>>>>>> 
>>>>>>> INSTALLATION WITH 'R CMD INSTALL --preclean --no-multiarch --library=a4.buildbin-libdir a4_1.7.1.tar.gz'
>>>>>>> 
* installing *source* package 'a4' ...
** R
** inst
** preparing package for lazy loading
Warning: '.path.package' is deprecated.
Use 'path.package' instead.
See help("Deprecated")
** help
No man pages found in package  'a4' 
*** installing help indices
** building package indices
** installing vignettes
   'a4vignette.Rnw' 
** testing if installed package can be loaded
Warning: '.path.package' is deprecated.
Use 'path.package' instead.
See help("Deprecated")
* DONE (a4)