SNPchip 2.5.9 Robert Scharpf
Snapshot Date: 2013-03-24 17:01:43 -0700 (Sun, 24 Mar 2013) | URL: https://hedgehog.fhcrc.org/bioconductor/trunk/madman/Rpacks/SNPchip | Last Changed Rev: 72907 / Revision: 74774 | Last Changed Date: 2013-01-24 16:57:26 -0800 (Thu, 24 Jan 2013) |
| george2 | Linux (Ubuntu 12.04.1 LTS) / x86_64 | OK | [ OK ] | |
moscato2 | Windows Server 2008 R2 Enterprise SP1 (64-bit) / x64 | OK | OK | OK |
petty | Mac OS X Leopard (10.5.8) / i386 | OK | OK | OK |
* using log directory ‘/home/biocbuild/bbs-2.12-bioc/meat/SNPchip.Rcheck’
* using R version 3.0.0 beta (2013-03-19 r62328)
* using platform: x86_64-unknown-linux-gnu (64-bit)
* using session charset: UTF-8
* using option ‘--no-vignettes’
* checking for file ‘SNPchip/DESCRIPTION’ ... OK
* this is package ‘SNPchip’ version ‘2.5.9’
* checking package namespace information ... OK
* checking package dependencies ... OK
* checking if this is a source package ... OK
* checking if there is a namespace ... OK
* checking for hidden files and directories ... OK
* checking for portable file names ... OK
* checking for sufficient/correct file permissions ... OK
* checking whether package ‘SNPchip’ can be installed ... [26s/27s] OK
* checking installed package size ... OK
* checking package directory ... OK
* checking DESCRIPTION meta-information ... OK
* checking top-level files ... OK
* checking for left-over files ... OK
* checking index information ... OK
* checking package subdirectories ... OK
* checking R files for non-ASCII characters ... OK
* checking R files for syntax errors ... OK
* checking whether the package can be loaded ... OK
* checking whether the package can be loaded with stated dependencies ... OK
* checking whether the package can be unloaded cleanly ... OK
* checking whether the namespace can be loaded with stated dependencies ... OK
* checking whether the namespace can be unloaded cleanly ... OK
* checking for unstated dependencies in R code ... OK
* checking S3 generic/method consistency ... OK
* checking replacement functions ... OK
* checking foreign function calls ... OK
* checking R code for possible problems ... NOTE
dataFrameSummarizedExperiment: no visible binding for global variable
‘j’
* checking Rd files ... NOTE
prepare_Rd: arrangeFigs.Rd:35-36: Dropping empty section \examples
prepare_Rd: dataFrame.Rd:43-44: Dropping empty section \examples
prepare_Rd: latticeFigs.Rd:27-29: Dropping empty section \details
prepare_Rd: latticeFigs.Rd:37-38: Dropping empty section \seealso
prepare_Rd: latticeFigs.Rd:39-40: Dropping empty section \examples
* checking Rd metadata ... OK
* checking Rd cross-references ... OK
* checking for missing documentation entries ... OK
* checking for code/documentation mismatches ... OK
* checking Rd \usage sections ... OK
* checking Rd contents ... OK
* checking for unstated dependencies in examples ... OK
* checking installed files from ‘inst/doc’ ... OK
* checking examples ... [49s/60s] OK
Examples with CPU or elapsed time > 5s
user system elapsed
xyplotLrrBaf 23.349 0.348 30.886
xyplot 8.517 0.104 9.438
* checking for unstated dependencies in tests ... OK
* checking tests ...
Running ‘doRUnit.R’ [20s/25s]
[20s/26s] OK
* checking for unstated dependencies in vignettes ... OK
* checking package vignettes in ‘inst/doc’ ... OK
* checking running R code from vignettes ... SKIPPED
* checking re-building of vignettes ... SKIPPED
* checking PDF version of manual ... OK
NOTE: There were 2 notes.
See
‘/home/biocbuild/bbs-2.12-bioc/meat/SNPchip.Rcheck/00check.log’
for details.