SNAGEE 0.99.1 David Venet
Snapshot Date: 2013-03-24 17:01:43 -0700 (Sun, 24 Mar 2013) | URL: https://hedgehog.fhcrc.org/bioconductor/trunk/madman/Rpacks/SNAGEE | Last Changed Rev: 71455 / Revision: 74774 | Last Changed Date: 2012-11-26 06:14:27 -0800 (Mon, 26 Nov 2012) |
| george2 | Linux (Ubuntu 12.04.1 LTS) / x86_64 | OK | OK | |
moscato2 | Windows Server 2008 R2 Enterprise SP1 (64-bit) / x64 | OK | OK | OK |
petty | Mac OS X Leopard (10.5.8) / i386 | OK | OK | [ OK ] |
>>>>>>>
>>>>>>> INSTALLATION WITH 'R CMD INSTALL --preclean --no-multiarch --library=SNAGEE.buildbin-libdir SNAGEE_0.99.1.tar.gz'
>>>>>>>
* installing *source* package 'SNAGEE' ...
** R
** inst
** preparing package for lazy loading
** help
*** installing help indices
** building package indices
** installing vignettes
'SNAGEE.Rnw'
** testing if installed package can be loaded
* DONE (SNAGEE)