Back to the "Multiple platform build/check report" A  B  C  D  E  F  G  H  I  J  K  L  M  N  O  P  Q  R [S] T  U  V  W  X  Y  Z 

Package 589/658HostnameOS / ArchBUILDCHECKBUILD BIN
SLGI 1.19.0
Nolwenn Le Meur
Snapshot Date: 2013-03-23 17:02:20 -0700 (Sat, 23 Mar 2013)
URL: https://hedgehog.fhcrc.org/bioconductor/trunk/madman/Rpacks/SLGI
Last Changed Rev: 70052 / Revision: 74756
Last Changed Date: 2012-10-01 15:43:56 -0700 (Mon, 01 Oct 2012)
george2 Linux (Ubuntu 12.04.1 LTS) / x86_64  OK  OK 
moscato2 Windows Server 2008 R2 Enterprise SP1 (64-bit) / x64  OK  OK  OK 
petty Mac OS X Leopard (10.5.8) / i386  OK  OK  OK 
pelham Mac OS X Snow Leopard (10.6.8) / x86_64  OK [ OK ] OK 

Summary

Package: SLGI
Version: 1.19.0
Command: /Library/Frameworks/R.framework/Versions/Current/Resources/bin/R CMD check --no-vignettes --timings --no-multiarch SLGI_1.19.0.tar.gz
StartedAt: 2013-03-24 10:19:31 -0700 (Sun, 24 Mar 2013)
EndedAt: 2013-03-24 10:29:06 -0700 (Sun, 24 Mar 2013)
EllapsedTime: 575.4 seconds
RetCode: 0
Status:  OK 
CheckDir: SLGI.Rcheck
Warnings: 0

Command output

* using log directory '/Users/biocbuild/bbs-2.12-bioc/meat/SLGI.Rcheck'
* using R version 3.0.0 beta (2013-03-21 r62346)
* using platform: x86_64-apple-darwin10.8.0 (64-bit)
* using session charset: ASCII
* using option '--no-vignettes'
* checking for file 'SLGI/DESCRIPTION' ... OK
* this is package 'SLGI' version '1.19.0'
* checking package namespace information ... OK
* checking package dependencies ... OK
* checking if this is a source package ... OK
* checking if there is a namespace ... OK
* checking for hidden files and directories ... OK
* checking for portable file names ... OK
* checking for sufficient/correct file permissions ... OK
* checking whether package 'SLGI' can be installed ... [20s/22s] OK
* checking installed package size ... NOTE
  installed size is 15.9Mb
  sub-directories of 1Mb or more:
    data      4.2Mb
    extdata  11.3Mb
* checking package directory ... OK
* checking DESCRIPTION meta-information ... OK
* checking top-level files ... OK
* checking for left-over files ... OK
* checking index information ... OK
* checking package subdirectories ... OK
* checking R files for non-ASCII characters ... OK
* checking R files for syntax errors ... OK
* checking whether the package can be loaded ... OK
* checking whether the package can be loaded with stated dependencies ... OK
* checking whether the package can be unloaded cleanly ... OK
* checking whether the namespace can be loaded with stated dependencies ... OK
* checking whether the namespace can be unloaded cleanly ... OK
* checking for unstated dependencies in R code ... OK
* checking S3 generic/method consistency ... OK
* checking replacement functions ... OK
* checking foreign function calls ... OK
* checking R code for possible problems ... OK
* checking Rd files ... OK
* checking Rd metadata ... OK
* checking Rd cross-references ... OK
* checking for missing documentation entries ... OK
* checking for code/documentation mismatches ... OK
* checking Rd \usage sections ... OK
* checking Rd contents ... OK
* checking for unstated dependencies in examples ... OK
* checking contents of 'data' directory ... OK
* checking data for non-ASCII characters ... OK
* checking data for ASCII and uncompressed saves ... OK
* checking installed files from 'inst/doc' ... OK
* checking examples ... [342s/346s] OK
Examples with CPU or elapsed time > 5s
                  user system elapsed
iSummary        45.803  4.390  50.954
siResult-class  36.294 13.190  49.631
plot            32.655 14.913  48.472
modelSLGI       29.057 15.053  44.253
compare         30.868 12.876  44.032
topInteraction  20.274  5.421  25.904
normInteraction 13.415  6.644  20.460
twoWayTable     19.617  0.396  20.471
AtongFnDomain    9.863  0.294  10.249
sharedBy         4.978  0.241   5.240
* checking for unstated dependencies in vignettes ... OK
* checking package vignettes in 'inst/doc' ... OK
* checking running R code from vignettes ... SKIPPED
* checking re-building of vignettes ... SKIPPED
* checking PDF version of manual ... OK

NOTE: There was 1 note.
See
  '/Users/biocbuild/bbs-2.12-bioc/meat/SLGI.Rcheck/00check.log'
for details.

SLGI.Rcheck/00install.out:

* installing *source* package 'SLGI' ...
** R
** data
** inst
** preparing package for lazy loading
No methods found in "BiocGenerics" for requests: plot
** help
*** installing help indices
** building package indices
** installing vignettes
   'SLGI.Rnw' 
** testing if installed package can be loaded
No methods found in "BiocGenerics" for requests: plot
* DONE (SLGI)

SLGI.Rcheck/SLGI-Ex.timings:

nameusersystemelapsed
Atong0.0230.0130.036
AtongFnDomain 9.863 0.29410.249
AtongPair0.0970.0340.130
SDL0.0210.0180.039
SGA0.0120.0100.022
SGD.SL0.2010.0270.229
TFmat0.1510.0240.175
byComplex0.9350.1191.086
comemberIn1.9940.1522.160
compare30.86812.87644.032
congruence0.0360.0080.047
createSquareMatrix0.5560.0850.673
domainDist4.2240.1744.429
essglist0.2550.0300.285
getInteraction0.5690.0490.625
getSharedDomains0.1840.0150.232
getSharedInteraction0.0050.0060.012
getTestedPairs0.0310.0120.042
getUniquePairs0.0350.0100.045
gi20050.0750.0180.094
gi20070.1750.0260.202
gi2Interactome0.0160.0140.032
hyperG0.0140.0090.022
iSummary45.803 4.39050.954
modelSLGI29.05715.05344.253
normInteraction13.415 6.64420.460
plot32.65514.91348.472
seqMatcherAlign0.0470.0130.061
sharedBy4.9780.2415.240
sharedInt0.9740.0461.020
siResult-class36.29413.19049.631
test2Interact0.0520.0230.075
topInteraction20.274 5.42125.904
twoWayTable19.617 0.39620.471
withinComplex1.8630.2832.160