| Back to the "Multiple platform build/check report" | A B C D E F G H I J K L M N O P Q R [S] T U V W X Y Z |
| Package 563/631 | Hostname | OS / Arch | BUILD | CHECK | BUILD BIN | ||||
| SJava 0.85.1 Martin Morgan
| george2 | Linux (Ubuntu 12.04.1 LTS) / x86_64 | OK | OK | |||||
| lamb2 | Linux (openSUSE 11.4) / x86_64 | [ OK ] | OK | ||||||
| moscato2 | Windows Server 2008 R2 Enterprise SP1 (64-bit) / x64 | N O T S U P P O R T E D | |||||||
| petty | Mac OS X Leopard (10.5.8) / i386 | N O T S U P P O R T E D | |||||||
| Package: SJava |
| Version: 0.85.1 |
| Command: /home/biocbuild/bbs-2.12-bioc/R/bin/R CMD build --keep-empty-dirs --no-resave-data SJava |
| StartedAt: 2013-01-15 21:47:58 -0800 (Tue, 15 Jan 2013) |
| EndedAt: 2013-01-15 21:48:01 -0800 (Tue, 15 Jan 2013) |
| EllapsedTime: 2.8 seconds |
| RetCode: 0 |
| Status: OK |
| PackageFile: SJava_0.85.1.tar.gz |
| PackageFileSize: 2.101 MiB |
* checking for file ‘SJava/DESCRIPTION’ ... OK * preparing ‘SJava’: * checking DESCRIPTION meta-information ... OK * cleaning src * checking for LF line-endings in source and make files * checking for empty or unneeded directories * building ‘SJava_0.85.1.tar.gz’