SIM 1.29.2 Renee X. de Menezes
Snapshot Date: 2013-03-23 17:02:20 -0700 (Sat, 23 Mar 2013) | URL: https://hedgehog.fhcrc.org/bioconductor/trunk/madman/Rpacks/SIM | Last Changed Rev: 73101 / Revision: 74756 | Last Changed Date: 2013-02-03 03:34:41 -0800 (Sun, 03 Feb 2013) |
| george2 | Linux (Ubuntu 12.04.1 LTS) / x86_64 | OK | OK | |
moscato2 | Windows Server 2008 R2 Enterprise SP1 (64-bit) / x64 | OK | OK | OK |
petty | Mac OS X Leopard (10.5.8) / i386 | OK | OK | OK |
pelham | Mac OS X Snow Leopard (10.6.8) / x86_64 | OK | OK | [ OK ] |
* installing *source* package 'SIM' ...
** libs
llvm-gcc-4.2 -arch x86_64 -std=gnu99 -I/Library/Frameworks/R.framework/Resources/include -DNDEBUG -I/usr/local/include -fPIC -mtune=core2 -g -O2 -c withinWindow.c -o withinWindow.o
llvm-gcc-4.2 -arch x86_64 -std=gnu99 -dynamiclib -Wl,-headerpad_max_install_names -undefined dynamic_lookup -single_module -multiply_defined suppress -L/usr/local/lib -o SIM.so withinWindow.o -F/Library/Frameworks/R.framework/.. -framework R -Wl,-framework -Wl,CoreFoundation
installing to /Users/biocbuild/bbs-2.12-bioc/meat/SIM.buildbin-libdir/SIM/libs
** R
** data
** inst
** preparing package for lazy loading
** help
*** installing help indices
** building package indices
** installing vignettes
'SIM.Rnw' using 'latin1'
** testing if installed package can be loaded
packaged installation of 'SIM' as 'SIM_1.29.2.tgz'
* DONE (SIM)