ReadqPCR 1.5.3 James Perkins
| Snapshot Date: 2013-03-24 17:01:43 -0700 (Sun, 24 Mar 2013) | | URL: https://hedgehog.fhcrc.org/bioconductor/trunk/madman/Rpacks/ReadqPCR | | Last Changed Rev: 74734 / Revision: 74774 | | Last Changed Date: 2013-03-23 03:16:06 -0700 (Sat, 23 Mar 2013) |
| george2 | Linux (Ubuntu 12.04.1 LTS) / x86_64 | OK | OK | |
| moscato2 | Windows Server 2008 R2 Enterprise SP1 (64-bit) / x64 | OK | OK | OK |
| petty | Mac OS X Leopard (10.5.8) / i386 | OK | OK | [ OK ] |
>>>>>>>
>>>>>>> INSTALLATION WITH 'R CMD INSTALL --preclean --no-multiarch --library=ReadqPCR.buildbin-libdir ReadqPCR_1.5.3.tar.gz'
>>>>>>>
* installing *source* package 'ReadqPCR' ...
** R
** inst
** preparing package for lazy loading
** help
*** installing help indices
** building package indices
** installing vignettes
'ReadqPCR.Rnw'
** testing if installed package can be loaded
* DONE (ReadqPCR)