RchyOptimyx 1.3.2 Adrin Jalali , Nima Aghaeepour
Snapshot Date: 2013-03-23 17:02:20 -0700 (Sat, 23 Mar 2013) | URL: https://hedgehog.fhcrc.org/bioconductor/trunk/madman/Rpacks/RchyOptimyx | Last Changed Rev: 72298 / Revision: 74756 | Last Changed Date: 2013-01-04 13:18:09 -0800 (Fri, 04 Jan 2013) |
| george2 | Linux (Ubuntu 12.04.1 LTS) / x86_64 | OK | OK | |
moscato2 | Windows Server 2008 R2 Enterprise SP1 (64-bit) / x64 | OK | OK | OK |
petty | Mac OS X Leopard (10.5.8) / i386 | OK | OK | OK |
pelham | Mac OS X Snow Leopard (10.6.8) / x86_64 | OK | OK | [ OK ] |
* installing *source* package 'RchyOptimyx' ...
** libs
llvm-g++-4.2 -arch x86_64 -I/Library/Frameworks/R.framework/Resources/include -DNDEBUG -I/usr/local/include -fPIC -mtune=core2 -g -O2 -c RchyOptimyx.cpp -o RchyOptimyx.o
llvm-g++-4.2 -arch x86_64 -I/Library/Frameworks/R.framework/Resources/include -DNDEBUG -I/usr/local/include -fPIC -mtune=core2 -g -O2 -c dataRead.cpp -o dataRead.o
llvm-g++-4.2 -arch x86_64 -I/Library/Frameworks/R.framework/Resources/include -DNDEBUG -I/usr/local/include -fPIC -mtune=core2 -g -O2 -c mystring.cpp -o mystring.o
llvm-g++-4.2 -arch x86_64 -I/Library/Frameworks/R.framework/Resources/include -DNDEBUG -I/usr/local/include -fPIC -mtune=core2 -g -O2 -c numberGenerator.cpp -o numberGenerator.o
llvm-g++-4.2 -arch x86_64 -dynamiclib -Wl,-headerpad_max_install_names -undefined dynamic_lookup -single_module -multiply_defined suppress -L/usr/local/lib -o RchyOptimyx.so RchyOptimyx.o dataRead.o mystring.o numberGenerator.o -F/Library/Frameworks/R.framework/.. -framework R -Wl,-framework -Wl,CoreFoundation
installing to /Users/biocbuild/bbs-2.12-bioc/meat/RchyOptimyx.buildbin-libdir/RchyOptimyx/libs
** R
** data
** inst
** preparing package for lazy loading
Creating a generic function for 'summary' from package 'base' in package 'RchyOptimyx'
Creating a new generic function for 'merge' in package 'RchyOptimyx'
** help
*** installing help indices
** building package indices
** installing vignettes
'RchyOptimyx.Rnw'
** testing if installed package can be loaded
packaged installation of 'RchyOptimyx' as 'RchyOptimyx_1.3.2.tgz'
* DONE (RchyOptimyx)