| RTopper 1.5.1 Luigi Marchionni
 
 | Snapshot Date: 2013-03-24 17:01:43 -0700 (Sun, 24 Mar 2013) |  | URL: https://hedgehog.fhcrc.org/bioconductor/trunk/madman/Rpacks/RTopper |  | Last Changed Rev: 70323 / Revision: 74774 |  | Last Changed Date: 2012-10-08 17:22:50 -0700 (Mon, 08 Oct 2012) | 
 | george2 | Linux (Ubuntu 12.04.1 LTS) / x86_64 | OK | OK |  | 
| moscato2 | Windows Server 2008 R2 Enterprise SP1 (64-bit) / x64 | OK | OK | OK | 
| petty | Mac OS X Leopard (10.5.8) / i386 | OK | OK | [ OK ] | 
>>>>>>> 
>>>>>>> INSTALLATION WITH 'R CMD INSTALL --preclean --no-multiarch --library=RTopper.buildbin-libdir RTopper_1.5.1.tar.gz'
>>>>>>> 
* installing *source* package 'RTopper' ...
** R
** data
** inst
** preparing package for lazy loading
** help
*** installing help indices
** building package indices
** installing vignettes
   'RTopper.Rnw' 
** testing if installed package can be loaded
* DONE (RTopper)