Back to the "Multiple platform build/check report" A  B  C  D  E  F  G  H  I  J  K  L  M  N  O  P  Q [R] S  T  U  V  W  X  Y  Z 

Package 564/658HostnameOS / ArchBUILDCHECKBUILD BIN
RTCA 1.11.1
Jitao David Zhang
Snapshot Date: 2013-03-23 17:02:20 -0700 (Sat, 23 Mar 2013)
URL: https://hedgehog.fhcrc.org/bioconductor/trunk/madman/Rpacks/RTCA
Last Changed Rev: 72298 / Revision: 74756
Last Changed Date: 2013-01-04 13:18:09 -0800 (Fri, 04 Jan 2013)
george2 Linux (Ubuntu 12.04.1 LTS) / x86_64  OK  OK 
moscato2 Windows Server 2008 R2 Enterprise SP1 (64-bit) / x64  OK  OK  OK 
petty Mac OS X Leopard (10.5.8) / i386  OK  OK  OK 
pelham Mac OS X Snow Leopard (10.6.8) / x86_64  OK  OK [ OK ]

Summary

Package: RTCA
Version: 1.11.1
Command: rm -rf RTCA.buildbin-libdir && mkdir RTCA.buildbin-libdir && /Library/Frameworks/R.framework/Versions/Current/Resources/bin/R CMD INSTALL --build --no-multiarch --library=RTCA.buildbin-libdir RTCA_1.11.1.tar.gz
StartedAt: 2013-03-24 12:09:49 -0700 (Sun, 24 Mar 2013)
EndedAt: 2013-03-24 12:09:55 -0700 (Sun, 24 Mar 2013)
EllapsedTime: 6.8 seconds
RetCode: 0
Status:  OK 
PackageFile: RTCA_1.11.1.tgz
PackageFileSize: 603.6 KiB

Command output

* installing *source* package 'RTCA' ...
** R
** inst
** preparing package for lazy loading
Creating a generic function for 'time' from package 'stats' in package 'RTCA'
Creating a generic function for 'plot' from package 'graphics' in package 'RTCA'
** help
*** installing help indices
** building package indices
** installing vignettes
   'RTCAtransformation.Rnw' 
   'aboutRTCA.Rnw' 
** testing if installed package can be loaded
packaged installation of 'RTCA' as 'RTCA_1.11.1.tgz'
* DONE (RTCA)