Back to the "Multiple platform build/check report" A  B  C  D  E  F  G  H  I  J  K  L  M  N  O  P  Q [R] S  T  U  V  W  X  Y  Z 

Package 544/658HostnameOS / ArchBUILDCHECKBUILD BIN
RMassBank 1.1.1
Michael Stravs, Emma Schymanski
Snapshot Date: 2013-03-24 17:01:43 -0700 (Sun, 24 Mar 2013)
URL: https://hedgehog.fhcrc.org/bioconductor/trunk/madman/Rpacks/RMassBank
Last Changed Rev: 74064 / Revision: 74774
Last Changed Date: 2013-03-08 02:48:57 -0800 (Fri, 08 Mar 2013)
george2 Linux (Ubuntu 12.04.1 LTS) / x86_64  ERROR  skipped 
moscato2 Windows Server 2008 R2 Enterprise SP1 (64-bit) / x64  ERROR  skipped  skipped 
petty Mac OS X Leopard (10.5.8) / i386 [ ERROR ] skipped  skipped 

Summary

Package: RMassBank
Version: 1.1.1
Command: /Library/Frameworks/R.framework/Versions/Current/Resources/bin/R --arch x86_64 CMD build --keep-empty-dirs --no-resave-data RMassBank
StartedAt: 2013-03-25 00:32:28 -0700 (Mon, 25 Mar 2013)
EndedAt: 2013-03-25 00:32:33 -0700 (Mon, 25 Mar 2013)
EllapsedTime: 4.9 seconds
RetCode: 1
Status:  ERROR 
PackageFile: None
PackageFileSize: NA

Command output

* checking for file 'RMassBank/DESCRIPTION' ... OK
* preparing 'RMassBank':
* checking DESCRIPTION meta-information ... OK
* installing the package to re-build vignettes
      -----------------------------------
* installing *source* package 'RMassBank' ...
** R
** inst
** preparing package for lazy loading
Error : package 'mzR' is not installed for 'arch = x86_64'
ERROR: lazy loading failed for package 'RMassBank'
* removing '/private/tmp/Rtmpn4gqsv/Rinst41647ee90d31/RMassBank'
      -----------------------------------
ERROR: package installation failed