Back to the "Multiple platform build/check report" A  B  C  D  E  F  G  H  I  J  K  L  M  N  O  P  Q [R] S  T  U  V  W  X  Y  Z 

Package 534/658HostnameOS / ArchBUILDCHECKBUILD BIN
RGalaxy 1.3.7
Bioconductor Package Maintainer
Snapshot Date: 2013-03-23 17:02:20 -0700 (Sat, 23 Mar 2013)
URL: https://hedgehog.fhcrc.org/bioconductor/trunk/madman/Rpacks/RGalaxy
Last Changed Rev: 74614 / Revision: 74756
Last Changed Date: 2013-03-20 13:16:42 -0700 (Wed, 20 Mar 2013)
george2 Linux (Ubuntu 12.04.1 LTS) / x86_64  OK  OK 
moscato2 Windows Server 2008 R2 Enterprise SP1 (64-bit) / x64  OK  OK  OK 
petty Mac OS X Leopard (10.5.8) / i386  ERROR  skipped  skipped 
pelham Mac OS X Snow Leopard (10.6.8) / x86_64 [ OK ] OK  OK 

Summary

Package: RGalaxy
Version: 1.3.7
Command: /Library/Frameworks/R.framework/Versions/Current/Resources/bin/R CMD build --keep-empty-dirs --no-resave-data RGalaxy
StartedAt: 2013-03-24 00:58:00 -0700 (Sun, 24 Mar 2013)
EndedAt: 2013-03-24 00:58:02 -0700 (Sun, 24 Mar 2013)
EllapsedTime: 1.8 seconds
RetCode: 0
Status:  OK 
PackageFile: RGalaxy_1.3.7.tar.gz
PackageFileSize: 116.6 KiB

Command output

* checking for file 'RGalaxy/DESCRIPTION' ... OK
* preparing 'RGalaxy':
* checking DESCRIPTION meta-information ... OK
* checking for LF line-endings in source and make files
* checking for empty or unneeded directories
WARNING: directory 'RGalaxy/inst/doc' is empty
* building 'RGalaxy_1.3.7.tar.gz'