Back to the "Multiple platform build/check report" A  B  C  D  E  F  G  H  I  J  K  L  M  N  O [P] Q  R  S  T  U  V  W  X  Y  Z 

Package 474/658HostnameOS / ArchBUILDCHECKBUILD BIN
PICS 2.1.01
Renan Sauteraud
Snapshot Date: 2013-03-23 17:02:20 -0700 (Sat, 23 Mar 2013)
URL: https://hedgehog.fhcrc.org/bioconductor/trunk/madman/Rpacks/PICS
Last Changed Rev: 74018 / Revision: 74756
Last Changed Date: 2013-03-07 10:03:41 -0800 (Thu, 07 Mar 2013)
george2 Linux (Ubuntu 12.04.1 LTS) / x86_64  OK  OK 
moscato2 Windows Server 2008 R2 Enterprise SP1 (64-bit) / x64  OK  OK  OK 
petty Mac OS X Leopard (10.5.8) / i386  OK  OK  OK 
pelham Mac OS X Snow Leopard (10.6.8) / x86_64  OK  OK [ OK ]

Summary

Package: PICS
Version: 2.1.01
Command: rm -rf PICS.buildbin-libdir && mkdir PICS.buildbin-libdir && /Library/Frameworks/R.framework/Versions/Current/Resources/bin/R CMD INSTALL --build --no-multiarch --library=PICS.buildbin-libdir PICS_2.1.01.tar.gz
StartedAt: 2013-03-24 12:00:08 -0700 (Sun, 24 Mar 2013)
EndedAt: 2013-03-24 12:00:28 -0700 (Sun, 24 Mar 2013)
EllapsedTime: 20.6 seconds
RetCode: 0
Status:  OK 
PackageFile: PICS_2.1.01.tgz
PackageFileSize: 1.138 MiB

Command output

* installing *source* package 'PICS' ...
checking for pkg-config... /usr/bin/pkg-config
checking pkg-config is at least version 0.9.0... yes
checking for GSL... yes
configure: creating ./config.status
config.status: creating src/Makevars
** libs
llvm-gcc-4.2 -arch x86_64 -std=gnu99 -I/Library/Frameworks/R.framework/Resources/include -DNDEBUG  -I/usr/local/include    -fPIC  -mtune=core2 -g -O2  -c pics.c -o pics.o
llvm-gcc-4.2 -arch x86_64 -std=gnu99 -I/Library/Frameworks/R.framework/Resources/include -DNDEBUG  -I/usr/local/include    -fPIC  -mtune=core2 -g -O2  -c segment.c -o segment.o
llvm-gcc-4.2 -arch x86_64 -std=gnu99 -dynamiclib -Wl,-headerpad_max_install_names -undefined dynamic_lookup -single_module -multiply_defined suppress -L/usr/local/lib -o PICS.so pics.o segment.o -L/usr/local/lib -lgsl -lgslcblas -lm -F/Library/Frameworks/R.framework/.. -framework R -Wl,-framework -Wl,CoreFoundation
installing to /Users/biocbuild/bbs-2.12-bioc/meat/PICS.buildbin-libdir/PICS/libs
** R
** inst
** preparing package for lazy loading
** help
*** installing help indices
** building package indices
** installing vignettes
   'PICS.Rnw' 
** testing if installed package can be loaded
packaged installation of 'PICS' as 'PICS_2.1.01.tgz'
* DONE (PICS)