| OTUbase 1.9.1 Daniel Beck
 
 | Snapshot Date: 2013-03-24 17:01:43 -0700 (Sun, 24 Mar 2013) |  | URL: https://hedgehog.fhcrc.org/bioconductor/trunk/madman/Rpacks/OTUbase |  | Last Changed Rev: 72298 / Revision: 74774 |  | Last Changed Date: 2013-01-04 13:18:09 -0800 (Fri, 04 Jan 2013) | 
 | george2 | Linux (Ubuntu 12.04.1 LTS) / x86_64 | OK | OK |  | 
| moscato2 | Windows Server 2008 R2 Enterprise SP1 (64-bit) / x64 | OK | OK | OK | 
| petty | Mac OS X Leopard (10.5.8) / i386 | OK | OK | [ OK ] | 
>>>>>>> 
>>>>>>> INSTALLATION WITH 'R CMD INSTALL --preclean --no-multiarch --library=OTUbase.buildbin-libdir OTUbase_1.9.1.tar.gz'
>>>>>>> 
* installing *source* package 'OTUbase' ...
** R
** inst
** preparing package for lazy loading
Warning in .simpleDuplicateClass(def, prev) :
  the specification for class ".ShortReadBase" in package 'OTUbase' seems equivalent to one from package 'ShortRead' and is not turning on duplicate class definitions for this class
** help
*** installing help indices
** building package indices
** installing vignettes
   'Introduction_to_OTUbase.Rnw' 
** testing if installed package can be loaded
Warning in .simpleDuplicateClass(def, prev) :
  the specification for class ".ShortReadBase" in package 'OTUbase' seems equivalent to one from package 'ShortRead' and is not turning on duplicate class definitions for this class
* DONE (OTUbase)