MSnbase 1.7.25 Laurent Gatto
 | Snapshot Date: 2013-03-24 17:01:43 -0700 (Sun, 24 Mar 2013) |  | URL: https://hedgehog.fhcrc.org/bioconductor/trunk/madman/Rpacks/MSnbase |  | Last Changed Rev: 74673 / Revision: 74774 |  | Last Changed Date: 2013-03-22 06:37:35 -0700 (Fri, 22 Mar 2013) |  
  | george2  | Linux (Ubuntu 12.04.1 LTS) / x86_64  |  OK  | [ OK ] |  | 
| moscato2  | Windows Server 2008 R2 Enterprise SP1 (64-bit) / x64  |  OK  |  OK  |  OK  | 
| petty  | Mac OS X Leopard (10.5.8) / i386  |  OK  |  OK  |  OK  | 
* using log directory ‘/home/biocbuild/bbs-2.12-bioc/meat/MSnbase.Rcheck’
* using R version 3.0.0 beta (2013-03-19 r62328)
* using platform: x86_64-unknown-linux-gnu (64-bit)
* using session charset: UTF-8
* using option ‘--no-vignettes’
* checking for file ‘MSnbase/DESCRIPTION’ ... OK
* this is package ‘MSnbase’ version ‘1.7.25’
* checking package namespace information ... OK
* checking package dependencies ... NOTE
Package which this enhances but not available for checking: ‘doMC’
* checking if this is a source package ... OK
* checking if there is a namespace ... OK
* checking for hidden files and directories ... OK
* checking for portable file names ... OK
* checking for sufficient/correct file permissions ... OK
* checking whether package ‘MSnbase’ can be installed ... [29s/30s] OK
* checking installed package size ... OK
* checking package directory ... OK
* checking DESCRIPTION meta-information ... OK
* checking top-level files ... OK
* checking for left-over files ... OK
* checking index information ... OK
* checking package subdirectories ... OK
* checking R files for non-ASCII characters ... OK
* checking R files for syntax errors ... OK
* checking whether the package can be loaded ... OK
* checking whether the package can be loaded with stated dependencies ... OK
* checking whether the package can be unloaded cleanly ... OK
* checking whether the namespace can be loaded with stated dependencies ... OK
* checking whether the namespace can be unloaded cleanly ... OK
* checking for unstated dependencies in R code ... OK
* checking S3 generic/method consistency ... OK
* checking replacement functions ... OK
* checking foreign function calls ... OK
* checking R code for possible problems ... OK
* checking Rd files ... OK
* checking Rd metadata ... OK
* checking Rd cross-references ... OK
* checking for missing documentation entries ... OK
* checking for code/documentation mismatches ... OK
* checking Rd \usage sections ... OK
* checking Rd contents ... OK
* checking for unstated dependencies in examples ... OK
* checking contents of ‘data’ directory ... OK
* checking data for non-ASCII characters ... OK
* checking data for ASCII and uncompressed saves ... OK
* checking installed files from ‘inst/doc’ ... OK
* checking examples ... [139s/152s] OK
Examples with CPU or elapsed time > 5s
                        user system elapsed
plotMzDelta-methods   36.834  0.772  38.180
writeMzTabData        13.301  0.064  23.712
readMgfData           10.329  0.024  10.568
nQuants                6.617  0.024   6.768
plotNA-methods         6.612  0.008   6.624
quantify-methods       6.396  0.028   6.482
normalise-methods      6.296  0.012   6.349
impute-methods         6.204  0.012   6.215
purityCorrect-methods  6.157  0.008   6.554
exprsToRatios-methods  6.056  0.020   6.095
* checking for unstated dependencies in tests ... OK
* checking tests ...
  Running ‘test-all.R’ [58s/63s]
 [58s/63s] OK
* checking for unstated dependencies in vignettes ... OK
* checking package vignettes in ‘inst/doc’ ... OK
* checking running R code from vignettes ... SKIPPED
* checking re-building of vignettes ... SKIPPED
* checking PDF version of manual ... OK
NOTE: There was 1 note.
See
  ‘/home/biocbuild/bbs-2.12-bioc/meat/MSnbase.Rcheck/00check.log’
for details.
 
* installing *source* package ‘MSnbase’ ...
** R
** data
*** moving datasets to lazyload DB
** inst
** preparing package for lazy loading
Creating a generic function for ‘scale’ from package ‘base’ in package ‘MSnbase’
** help
*** installing help indices
** building package indices
** installing vignettes
   ‘MSnbase-demo.Rnw’ 
   ‘MSnbase-development.Rnw’ 
   ‘MSnbase-io.Rnw’ 
** testing if installed package can be loaded
* DONE (MSnbase)