HTSFilter 0.99.6 Andrea Rau
Snapshot Date: 2013-03-23 17:02:20 -0700 (Sat, 23 Mar 2013) | URL: https://hedgehog.fhcrc.org/bioconductor/trunk/madman/Rpacks/HTSFilter | Last Changed Rev: 73877 / Revision: 74756 | Last Changed Date: 2013-03-03 01:01:05 -0800 (Sun, 03 Mar 2013) |
| george2 | Linux (Ubuntu 12.04.1 LTS) / x86_64 | OK | WARNINGS | |
moscato2 | Windows Server 2008 R2 Enterprise SP1 (64-bit) / x64 | OK | WARNINGS | OK |
petty | Mac OS X Leopard (10.5.8) / i386 | OK | WARNINGS | OK |
pelham | Mac OS X Snow Leopard (10.6.8) / x86_64 | OK | WARNINGS | [ OK ] |
* installing *source* package 'HTSFilter' ...
** R
** data
** inst
** preparing package for lazy loading
** help
*** installing help indices
** building package indices
** installing vignettes
'HTSFilter.Rnw'
** testing if installed package can be loaded
packaged installation of 'HTSFilter' as 'HTSFilter_0.99.6.tgz'
* DONE (HTSFilter)