Back to the "Multiple platform build/check report" A  B  C  D  E  F  G [H] I  J  K  L  M  N  O  P  Q  R  S  T  U  V  W  X  Y  Z 

Package 304/658HostnameOS / ArchBUILDCHECKBUILD BIN
HCsnip 0.99.1
Askar Obulkasim
Snapshot Date: 2013-03-23 17:02:20 -0700 (Sat, 23 Mar 2013)
URL: https://hedgehog.fhcrc.org/bioconductor/trunk/madman/Rpacks/HCsnip
Last Changed Rev: 74535 / Revision: 74756
Last Changed Date: 2013-03-18 16:40:59 -0700 (Mon, 18 Mar 2013)
george2 Linux (Ubuntu 12.04.1 LTS) / x86_64  OK  OK 
moscato2 Windows Server 2008 R2 Enterprise SP1 (64-bit) / x64  OK  OK  OK 
petty Mac OS X Leopard (10.5.8) / i386  OK  OK  OK 
pelham Mac OS X Snow Leopard (10.6.8) / x86_64  OK  OK [ OK ]

Summary

Package: HCsnip
Version: 0.99.1
Command: rm -rf HCsnip.buildbin-libdir && mkdir HCsnip.buildbin-libdir && /Library/Frameworks/R.framework/Versions/Current/Resources/bin/R CMD INSTALL --build --no-multiarch --library=HCsnip.buildbin-libdir HCsnip_0.99.1.tar.gz
StartedAt: 2013-03-24 11:47:49 -0700 (Sun, 24 Mar 2013)
EndedAt: 2013-03-24 11:48:07 -0700 (Sun, 24 Mar 2013)
EllapsedTime: 17.3 seconds
RetCode: 0
Status:  OK 
PackageFile: HCsnip_0.99.1.tgz
PackageFileSize: 1.775 MiB

Command output

* installing *source* package 'HCsnip' ...
** R
** data
** inst
** preparing package for lazy loading

randomSurvivalForest 3.6.3

Type rsf.news() to see new features, changes, and bug fixes.

** help
*** installing help indices
** building package indices
** installing vignettes
   'HCsnip.Rnw' 
** testing if installed package can be loaded

randomSurvivalForest 3.6.3

Type rsf.news() to see new features, changes, and bug fixes.

packaged installation of 'HCsnip' as 'HCsnip_0.99.1.tgz'
* DONE (HCsnip)