Back to the "Multiple platform build/check report" A  B  C  D  E  F [G] H  I  J  K  L  M  N  O  P  Q  R  S  T  U  V  W  X  Y  Z 

Package 265/658HostnameOS / ArchBUILDCHECKBUILD BIN
GenomicFeatures 1.11.16
Bioconductor Package Maintainer
Snapshot Date: 2013-03-23 17:02:20 -0700 (Sat, 23 Mar 2013)
URL: https://hedgehog.fhcrc.org/bioconductor/trunk/madman/Rpacks/GenomicFeatures
Last Changed Rev: 74109 / Revision: 74756
Last Changed Date: 2013-03-08 15:37:04 -0800 (Fri, 08 Mar 2013)
george2 Linux (Ubuntu 12.04.1 LTS) / x86_64  OK  OK 
moscato2 Windows Server 2008 R2 Enterprise SP1 (64-bit) / x64  OK  OK  OK 
petty Mac OS X Leopard (10.5.8) / i386  OK  OK  OK 
pelham Mac OS X Snow Leopard (10.6.8) / x86_64  OK [ OK ] OK 

Summary

Package: GenomicFeatures
Version: 1.11.16
Command: /Library/Frameworks/R.framework/Versions/Current/Resources/bin/R CMD check --no-vignettes --timings --no-multiarch GenomicFeatures_1.11.16.tar.gz
StartedAt: 2013-03-24 05:38:22 -0700 (Sun, 24 Mar 2013)
EndedAt: 2013-03-24 05:50:21 -0700 (Sun, 24 Mar 2013)
EllapsedTime: 718.7 seconds
RetCode: 0
Status:  OK 
CheckDir: GenomicFeatures.Rcheck
Warnings: 0

Command output

* using log directory '/Users/biocbuild/bbs-2.12-bioc/meat/GenomicFeatures.Rcheck'
* using R version 3.0.0 beta (2013-03-21 r62346)
* using platform: x86_64-apple-darwin10.8.0 (64-bit)
* using session charset: ASCII
* using option '--no-vignettes'
* checking for file 'GenomicFeatures/DESCRIPTION' ... OK
* this is package 'GenomicFeatures' version '1.11.16'
* checking package namespace information ... OK
* checking package dependencies ... OK
* checking if this is a source package ... OK
* checking if there is a namespace ... OK
* checking for hidden files and directories ... OK
* checking for portable file names ... OK
* checking for sufficient/correct file permissions ... OK
* checking whether package 'GenomicFeatures' can be installed ... [29s/30s] OK
* checking installed package size ... OK
* checking package directory ... OK
* checking DESCRIPTION meta-information ... OK
* checking top-level files ... OK
* checking for left-over files ... OK
* checking index information ... OK
* checking package subdirectories ... OK
* checking R files for non-ASCII characters ... OK
* checking R files for syntax errors ... OK
* checking whether the package can be loaded ... OK
* checking whether the package can be loaded with stated dependencies ... OK
* checking whether the package can be unloaded cleanly ... OK
* checking whether the namespace can be loaded with stated dependencies ... OK
* checking whether the namespace can be unloaded cleanly ... OK
* checking for unstated dependencies in R code ... OK
* checking S3 generic/method consistency ... OK
* checking replacement functions ... OK
* checking foreign function calls ... OK
* checking R code for possible problems ... NOTE
.setseqnameStyle: no visible binding for global variable 'txdb'
* checking Rd files ... OK
* checking Rd metadata ... OK
* checking Rd cross-references ... OK
* checking for missing documentation entries ... OK
* checking for code/documentation mismatches ... OK
* checking Rd \usage sections ... OK
* checking Rd contents ... OK
* checking for unstated dependencies in examples ... OK
* checking installed files from 'inst/doc' ... OK
* checking examples ... [197s/304s] OK
Examples with CPU or elapsed time > 5s
                                user system elapsed
extractTranscriptsFromGenome 126.056 21.062 151.050
makeFeatureDbFromUCSC         10.026  0.477  70.401
makeTranscriptDbFromUCSC       5.649  0.178  27.300
getPromoterSeq-methods         3.616  0.658   5.106
makeTranscriptDbFromBiomart    2.555  0.215  22.651
* checking for unstated dependencies in tests ... OK
* checking tests ...
  Running 'GenomicFeatures_unit_tests.R' [113s/134s]
 [113s/135s] OK
* checking for unstated dependencies in vignettes ... OK
* checking package vignettes in 'inst/doc' ... OK
* checking running R code from vignettes ... SKIPPED
* checking re-building of vignettes ... SKIPPED
* checking PDF version of manual ... OK

NOTE: There was 1 note.
See
  '/Users/biocbuild/bbs-2.12-bioc/meat/GenomicFeatures.Rcheck/00check.log'
for details.

GenomicFeatures.Rcheck/00install.out:

* installing *source* package 'GenomicFeatures' ...
** R
** inst
** preparing package for lazy loading
** help
*** installing help indices
** building package indices
** installing vignettes
   'GenomicFeatures.Rnw' 
** testing if installed package can be loaded
* DONE (GenomicFeatures)

GenomicFeatures.Rcheck/GenomicFeatures-Ex.timings:

nameusersystemelapsed
DEFAULT_CIRC_SEQS0.0070.0030.011
FeatureDb-class0.0710.0100.081
TranscriptDb-class0.9820.1381.127
as-format-methods2.5170.0342.626
extractTranscriptsFromGenome126.056 21.062151.050
features0.1030.0100.117
getPromoterSeq-methods3.6160.6585.106
id2name0.1040.0190.124
makeFeatureDbFromUCSC10.026 0.47770.401
makeTranscriptDb0.1390.0180.159
makeTranscriptDbFromBiomart 2.555 0.21522.651
makeTranscriptDbFromGFF2.7830.1102.897
makeTranscriptDbFromUCSC 5.649 0.17827.300
makeTxDbPackage0.7100.0500.775
saveFeatures0.0040.0070.011
select-methods0.3220.0340.360
transcripts0.8100.0180.829
transcriptsBy2.5400.0282.573
transcriptsByOverlaps0.3480.0120.360