GeneticsPed 1.21.1 David Henderson
 | Snapshot Date: 2013-03-23 17:02:20 -0700 (Sat, 23 Mar 2013) |  | URL: https://hedgehog.fhcrc.org/bioconductor/trunk/madman/Rpacks/GeneticsPed |  | Last Changed Rev: 70247 / Revision: 74756 |  | Last Changed Date: 2012-10-06 10:15:30 -0700 (Sat, 06 Oct 2012) |  
  | george2  | Linux (Ubuntu 12.04.1 LTS) / x86_64  |  OK  |  OK  |  | 
| moscato2  | Windows Server 2008 R2 Enterprise SP1 (64-bit) / x64  |  OK  |  OK  |  OK  | 
| petty  | Mac OS X Leopard (10.5.8) / i386  |  OK  |  WARNINGS  |  OK  | 
| pelham  | Mac OS X Snow Leopard (10.6.8) / x86_64  |  OK  |  OK  | [ OK ] | 
* installing *source* package 'GeneticsPed' ...
** libs
llvm-g++-4.2 -arch x86_64 -I/Library/Frameworks/R.framework/Resources/include -DNDEBUG  -I/usr/local/include    -fPIC  -mtune=core2 -g -O2  -c ainverse.cc -o ainverse.o
llvm-g++-4.2 -arch x86_64 -I/Library/Frameworks/R.framework/Resources/include -DNDEBUG  -I/usr/local/include    -fPIC  -mtune=core2 -g -O2  -c eibd.cc -o eibd.o
gfortran-4.2 -arch x86_64   -fPIC  -g -O2 -Wall -pedantic  -c ggmatmult.f -o ggmatmult.o
gfortran-4.2 -arch x86_64   -fPIC  -g -O2 -Wall -pedantic  -c gpi.f -o gpi.o
llvm-g++-4.2 -arch x86_64 -I/Library/Frameworks/R.framework/Resources/include -DNDEBUG  -I/usr/local/include    -fPIC  -mtune=core2 -g -O2  -c inbreed.cc -o inbreed.o
llvm-g++-4.2 -arch x86_64 -I/Library/Frameworks/R.framework/Resources/include -DNDEBUG  -I/usr/local/include    -fPIC  -mtune=core2 -g -O2  -c inverseAdditive.cc -o inverseAdditive.o
llvm-g++-4.2 -arch x86_64 -I/Library/Frameworks/R.framework/Resources/include -DNDEBUG  -I/usr/local/include    -fPIC  -mtune=core2 -g -O2  -c meuwissen.cc -o meuwissen.o
llvm-g++-4.2 -arch x86_64 -I/Library/Frameworks/R.framework/Resources/include -DNDEBUG  -I/usr/local/include    -fPIC  -mtune=core2 -g -O2  -c pedSort.cc -o pedSort.o
llvm-g++-4.2 -arch x86_64 -I/Library/Frameworks/R.framework/Resources/include -DNDEBUG  -I/usr/local/include    -fPIC  -mtune=core2 -g -O2  -c pedtemplate.cc -o pedtemplate.o
llvm-g++-4.2 -arch x86_64 -I/Library/Frameworks/R.framework/Resources/include -DNDEBUG  -I/usr/local/include    -fPIC  -mtune=core2 -g -O2  -c register.cc -o register.o
llvm-gcc-4.2 -arch x86_64 -std=gnu99 -I/Library/Frameworks/R.framework/Resources/include -DNDEBUG  -I/usr/local/include    -fPIC  -mtune=core2 -g -O2  -c sargolzaei.c -o sargolzaei.o
llvm-g++-4.2 -arch x86_64 -I/Library/Frameworks/R.framework/Resources/include -DNDEBUG  -I/usr/local/include    -fPIC  -mtune=core2 -g -O2  -c sortped.cc -o sortped.o
llvm-g++-4.2 -arch x86_64 -dynamiclib -Wl,-headerpad_max_install_names -undefined dynamic_lookup -single_module -multiply_defined suppress -L/usr/local/lib -o GeneticsPed.so ainverse.o eibd.o ggmatmult.o gpi.o inbreed.o inverseAdditive.o meuwissen.o pedSort.o pedtemplate.o register.o sargolzaei.o sortped.o -L/usr/local/lib/gcc/i686-apple-darwin8/4.2.3/x86_64 -L/usr/local/lib/x86_64 -L/usr/local/lib/gcc/i686-apple-darwin8/4.2.3 -lgfortran -F/Library/Frameworks/R.framework/.. -framework R -Wl,-framework -Wl,CoreFoundation
installing to /Users/biocbuild/bbs-2.12-bioc/meat/GeneticsPed.buildbin-libdir/GeneticsPed/libs
** R
** data
** inst
** preparing package for lazy loading
'.path.package' is deprecated.
Use 'path.package' instead.
See help("Deprecated")
NOTE: THIS PACKAGE IS NOW OBSOLETE.
  The R-Genetics project has developed an set of enhanced genetics
  packages to replace 'genetics'. Please visit the project homepage
  at http://rgenetics.org for informtion.
** help
*** installing help indices
** building package indices
** installing vignettes
   'geneticRelatedness.Rnw' 
   'pedigreeHandling.Rnw' 
   'quanGenAnimalModel.Rnw' 
** testing if installed package can be loaded
'.path.package' is deprecated.
Use 'path.package' instead.
See help("Deprecated")
NOTE: THIS PACKAGE IS NOW OBSOLETE.
  The R-Genetics project has developed an set of enhanced genetics
  packages to replace 'genetics'. Please visit the project homepage
  at http://rgenetics.org for informtion.
packaged installation of 'GeneticsPed' as 'GeneticsPed_1.21.1.tgz'
* DONE (GeneticsPed)