EasyqpcR 1.1.3 Le Pape Sylvain
Snapshot Date: 2013-03-24 17:01:43 -0700 (Sun, 24 Mar 2013) | URL: https://hedgehog.fhcrc.org/bioconductor/trunk/madman/Rpacks/EasyqpcR | Last Changed Rev: 72378 / Revision: 74774 | Last Changed Date: 2013-01-08 12:14:31 -0800 (Tue, 08 Jan 2013) |
| george2 | Linux (Ubuntu 12.04.1 LTS) / x86_64 | OK | OK | |
moscato2 | Windows Server 2008 R2 Enterprise SP1 (64-bit) / x64 | OK | OK | OK |
petty | Mac OS X Leopard (10.5.8) / i386 | OK | OK | [ OK ] |
>>>>>>>
>>>>>>> INSTALLATION WITH 'R CMD INSTALL --preclean --no-multiarch --library=EasyqpcR.buildbin-libdir EasyqpcR_1.1.3.tar.gz'
>>>>>>>
* installing *source* package 'EasyqpcR' ...
** R
** data
** inst
** preparing package for lazy loading
** help
*** installing help indices
** building package indices
** installing vignettes
'vignette_EasyqpcR.Rnw'
** testing if installed package can be loaded
* DONE (EasyqpcR)