Back to the "Multiple platform build/check report" A  B  C [D] E  F  G  H  I  J  K  L  M  N  O  P  Q  R  S  T  U  V  W  X  Y  Z 

Package 187/658HostnameOS / ArchBUILDCHECKBUILD BIN
DSS 1.2.0
Hao Wu
Snapshot Date: 2013-03-23 17:02:20 -0700 (Sat, 23 Mar 2013)
URL: https://hedgehog.fhcrc.org/bioconductor/trunk/madman/Rpacks/DSS
Last Changed Rev: 72137 / Revision: 74756
Last Changed Date: 2012-12-21 14:59:01 -0800 (Fri, 21 Dec 2012)
george2 Linux (Ubuntu 12.04.1 LTS) / x86_64  OK  OK 
moscato2 Windows Server 2008 R2 Enterprise SP1 (64-bit) / x64  OK  OK  OK 
petty Mac OS X Leopard (10.5.8) / i386  OK  OK  OK 
pelham Mac OS X Snow Leopard (10.6.8) / x86_64  OK  OK [ OK ]

Summary

Package: DSS
Version: 1.2.0
Command: rm -rf DSS.buildbin-libdir && mkdir DSS.buildbin-libdir && /Library/Frameworks/R.framework/Versions/Current/Resources/bin/R CMD INSTALL --build --no-multiarch --library=DSS.buildbin-libdir DSS_1.2.0.tar.gz
StartedAt: 2013-03-24 11:35:27 -0700 (Sun, 24 Mar 2013)
EndedAt: 2013-03-24 11:35:36 -0700 (Sun, 24 Mar 2013)
EllapsedTime: 8.8 seconds
RetCode: 0
Status:  OK 
PackageFile: DSS_1.2.0.tgz
PackageFileSize: 202.3 KiB

Command output

* installing *source* package 'DSS' ...
** R
** data
** inst
** preparing package for lazy loading
** help
*** installing help indices
** building package indices
** installing vignettes
   'DSS.Rnw' 
** testing if installed package can be loaded
packaged installation of 'DSS' as 'DSS_1.2.0.tgz'
* DONE (DSS)