DDiGGER 1.1.0 Diana HP Low
 | Snapshot Date: 2012-10-11 17:01:49 -0700 (Thu, 11 Oct 2012) |  | URL: https://hedgehog.fhcrc.org/bioconductor/trunk/madman/Rpacks/DDiGGER |  | Last Changed Rev: 70052 / Revision: 70425 |  | Last Changed Date: 2012-10-01 15:43:56 -0700 (Mon, 01 Oct 2012) |  
  | lamb2  | Linux (openSUSE 11.4) / x86_64  |  OK  |  OK  |  | 
| moscato2  | Windows Server 2008 R2 Enterprise SP1 (64-bit) / x64  |  OK  |  OK  |  OK  | 
| petty  | Mac OS X Leopard (10.5.8) / i386  |  OK  |  OK  | [ OK ] | 
>>>>>>> 
>>>>>>> INSTALLATION WITH 'R CMD INSTALL --preclean --no-multiarch --library=DDiGGER.buildbin-libdir DDiGGER_1.1.0.tar.gz'
>>>>>>> 
* installing *source* package 'DDiGGER' ...
** R
** data
** inst
** preparing package for lazy loading
** help
*** installing help indices
** building package indices
** installing vignettes
   'DDiGGER.Rnw' using 'latin-9' 
** testing if installed package can be loaded
* DONE (DDiGGER)