Back to the "Multiple platform build/check report" A  B [C] D  E  F  G  H  I  J  K  L  M  N  O  P  Q  R  S  T  U  V  W  X  Y  Z 

Package 154/658HostnameOS / ArchBUILDCHECKBUILD BIN
CRImage 1.7.1
Henrik Failmezger
Snapshot Date: 2013-03-23 17:02:20 -0700 (Sat, 23 Mar 2013)
URL: https://hedgehog.fhcrc.org/bioconductor/trunk/madman/Rpacks/CRImage
Last Changed Rev: 73885 / Revision: 74756
Last Changed Date: 2013-03-04 04:51:33 -0800 (Mon, 04 Mar 2013)
george2 Linux (Ubuntu 12.04.1 LTS) / x86_64  OK  OK 
moscato2 Windows Server 2008 R2 Enterprise SP1 (64-bit) / x64  OK  OK  OK 
petty Mac OS X Leopard (10.5.8) / i386  OK  OK  OK 
pelham Mac OS X Snow Leopard (10.6.8) / x86_64  OK [ OK ] OK 

Summary

Package: CRImage
Version: 1.7.1
Command: /Library/Frameworks/R.framework/Versions/Current/Resources/bin/R CMD check --no-vignettes --timings --no-multiarch CRImage_1.7.1.tar.gz
StartedAt: 2013-03-24 04:06:47 -0700 (Sun, 24 Mar 2013)
EndedAt: 2013-03-24 04:09:31 -0700 (Sun, 24 Mar 2013)
EllapsedTime: 164.4 seconds
RetCode: 0
Status:  OK 
CheckDir: CRImage.Rcheck
Warnings: 0

Command output

* using log directory '/Users/biocbuild/bbs-2.12-bioc/meat/CRImage.Rcheck'
* using R version 3.0.0 beta (2013-03-21 r62346)
* using platform: x86_64-apple-darwin10.8.0 (64-bit)
* using session charset: ASCII
* using option '--no-vignettes'
* checking for file 'CRImage/DESCRIPTION' ... OK
* checking extension type ... Package
* this is package 'CRImage' version '1.7.1'
* checking package namespace information ... OK
* checking package dependencies ... OK
* checking if this is a source package ... OK
* checking if there is a namespace ... OK
* checking for hidden files and directories ... OK
* checking for portable file names ... OK
* checking for sufficient/correct file permissions ... OK
* checking whether package 'CRImage' can be installed ... [8s/9s] OK
* checking installed package size ... NOTE
  installed size is  7.6Mb
  sub-directories of 1Mb or more:
    doc       2.1Mb
    extdata   5.4Mb
* checking package directory ... OK
* checking DESCRIPTION meta-information ... OK
* checking top-level files ... OK
* checking for left-over files ... OK
* checking index information ... OK
* checking package subdirectories ... OK
* checking R files for non-ASCII characters ... OK
* checking R files for syntax errors ... OK
* checking whether the package can be loaded ... OK
* checking whether the package can be loaded with stated dependencies ... OK
* checking whether the package can be unloaded cleanly ... OK
* checking whether the namespace can be loaded with stated dependencies ... OK
* checking whether the namespace can be unloaded cleanly ... OK
* checking for unstated dependencies in R code ... OK
* checking S3 generic/method consistency ... OK
* checking replacement functions ... OK
* checking foreign function calls ... OK
* checking R code for possible problems ... OK
* checking Rd files ... OK
* checking Rd metadata ... OK
* checking Rd cross-references ... OK
* checking for missing documentation entries ... OK
* checking for code/documentation mismatches ... OK
* checking Rd \usage sections ... OK
* checking Rd contents ... OK
* checking for unstated dependencies in examples ... OK
* checking installed files from 'inst/doc' ... OK
* checking examples ... [75s/76s] OK
Examples with CPU or elapsed time > 5s
                         user system elapsed
calculateCellularity   13.201  2.428  15.704
classifyCells          10.466  1.982  12.735
convertRGBToHSV        11.016  0.472  11.552
createBinaryImage       6.597  1.336   7.995
colorCorrection         5.473  1.232   6.852
calculateMeanStdTarget  4.469  1.402   5.893
* checking for unstated dependencies in vignettes ... OK
* checking package vignettes in 'inst/doc' ... OK
* checking running R code from vignettes ... SKIPPED
* checking re-building of vignettes ... SKIPPED
* checking PDF version of manual ... OK

NOTE: There was 1 note.
See
  '/Users/biocbuild/bbs-2.12-bioc/meat/CRImage.Rcheck/00check.log'
for details.

CRImage.Rcheck/00install.out:

* installing *source* package 'CRImage' ...
** R
** inst
** preparing package for lazy loading
** help
*** installing help indices
** building package indices
** installing vignettes
   'CRImage.Rnw' 
** testing if installed package can be loaded
* DONE (CRImage)

CRImage.Rcheck/CRImage-Ex.timings:

nameusersystemelapsed
CRImage-package0.6270.0260.814
SauvolaThreshold2.1610.2072.405
calculateCellularity13.201 2.42815.704
calculateMeanStdTarget4.4691.4025.893
calculateOtsu0.8620.3191.191
classifyCells10.466 1.98212.735
colorCorrection5.4731.2326.852
convertHSVToRGB2.0880.4112.545
convertLABToRGB1.5430.3131.871
convertRGBToHSV11.016 0.47211.552
convertRGBToLAB1.3470.3731.726
correctCopyNumber0.1950.0360.236
createBinaryImage6.5971.3367.995
createClassifier0.2610.0200.281
labelCells0.0030.0060.009
plotCorrectedCN0.1950.0160.211
processAperio0.0290.0150.044
segmentImage0.0160.0300.048