Back to the "Multiple platform build/check report" A  B [C] D  E  F  G  H  I  J  K  L  M  N  O  P  Q  R  S  T  U  V  W  X  Y  Z 

Package 131/658HostnameOS / ArchBUILDCHECKBUILD BIN
CMA 1.17.2
Christoph Bernau
Snapshot Date: 2013-03-23 17:02:20 -0700 (Sat, 23 Mar 2013)
URL: https://hedgehog.fhcrc.org/bioconductor/trunk/madman/Rpacks/CMA
Last Changed Rev: 73748 / Revision: 74756
Last Changed Date: 2013-02-26 06:46:12 -0800 (Tue, 26 Feb 2013)
george2 Linux (Ubuntu 12.04.1 LTS) / x86_64  OK  OK 
moscato2 Windows Server 2008 R2 Enterprise SP1 (64-bit) / x64  OK  OK  OK 
petty Mac OS X Leopard (10.5.8) / i386  OK  OK  OK 
pelham Mac OS X Snow Leopard (10.6.8) / x86_64  OK [ OK ] OK 

Summary

Package: CMA
Version: 1.17.2
Command: /Library/Frameworks/R.framework/Versions/Current/Resources/bin/R CMD check --no-vignettes --timings --no-multiarch CMA_1.17.2.tar.gz
StartedAt: 2013-03-24 03:52:36 -0700 (Sun, 24 Mar 2013)
EndedAt: 2013-03-24 03:54:36 -0700 (Sun, 24 Mar 2013)
EllapsedTime: 120.0 seconds
RetCode: 0
Status:  OK 
CheckDir: CMA.Rcheck
Warnings: 0

Command output

* using log directory '/Users/biocbuild/bbs-2.12-bioc/meat/CMA.Rcheck'
* using R version 3.0.0 beta (2013-03-21 r62346)
* using platform: x86_64-apple-darwin10.8.0 (64-bit)
* using session charset: ASCII
* using option '--no-vignettes'
* checking for file 'CMA/DESCRIPTION' ... OK
* checking extension type ... Package
* this is package 'CMA' version '1.17.2'
* checking package namespace information ... OK
* checking package dependencies ... OK
* checking if this is a source package ... OK
* checking if there is a namespace ... OK
* checking for hidden files and directories ... OK
* checking for portable file names ... OK
* checking for sufficient/correct file permissions ... OK
* checking whether package 'CMA' can be installed ... [8s/9s] OK
* checking installed package size ... OK
* checking package directory ... OK
* checking DESCRIPTION meta-information ... OK
* checking top-level files ... OK
* checking for left-over files ... OK
* checking index information ... OK
* checking package subdirectories ... OK
* checking R files for non-ASCII characters ... OK
* checking R files for syntax errors ... OK
* checking whether the package can be loaded ... OK
* checking whether the package can be loaded with stated dependencies ... OK
* checking whether the package can be unloaded cleanly ... OK
* checking whether the namespace can be loaded with stated dependencies ... OK
* checking whether the namespace can be unloaded cleanly ... OK
* checking for unstated dependencies in R code ... OK
* checking S3 generic/method consistency ... OK
* checking replacement functions ... OK
* checking foreign function calls ... OK
* checking R code for possible problems ... NOTE
ROCinternal: no visible binding for global variable 'xlab'
ROCinternal: no visible binding for global variable 'ylab'
ROCinternal: no visible binding for global variable 'main'
ROCinternal: no visible binding for global variable 'lwd'
rfe: no visible binding for global variable 'cost'
boxplot,evaloutput: no visible binding for global variable 'main'
compare,list: no visible binding for global variable 'main'
gbmCMA,matrix-numeric-missing: no visible binding for global variable
  'n.minobsinnode'
gbmCMA,matrix-numeric-missing: no visible binding for global variable
  'bag.fraction'
gbmCMA,matrix-numeric-missing: no visible binding for global variable
  'n.trees'
gbmCMA,matrix-numeric-missing: no visible binding for global variable
  'verbose'
nnetCMA,matrix-numeric-missing: no visible binding for global variable
  'size'
nnetCMA,matrix-numeric-missing: no visible binding for global variable
  'MaxNWts'
prediction,data.frame-missing-data.frame-formula: no visible global
  function definition for 'predicition'
svmCMA,matrix-numeric-missing: no visible binding for global variable
  'cost'
* checking Rd files ... OK
* checking Rd metadata ... OK
* checking Rd cross-references ... OK
* checking for missing documentation entries ... OK
* checking for code/documentation mismatches ... OK
* checking Rd \usage sections ... OK
* checking Rd contents ... OK
* checking for unstated dependencies in examples ... OK
* checking contents of 'data' directory ... OK
* checking data for non-ASCII characters ... OK
* checking data for ASCII and uncompressed saves ... OK
* checking installed files from 'inst/doc' ... NOTE
The following files should probably not be installed:
  'preamble.tex'

Consider the use of a .Rinstignore file: see 'Writing R Extensions',
or move the vignette sources from 'inst/doc' to 'vignettes'.
* checking examples ... [23s/23s] OK
Examples with CPU or elapsed time > 5s
               user system elapsed
ElasticNetCMA 5.509  0.216   5.796
* checking for unstated dependencies in vignettes ... OK
* checking package vignettes in 'inst/doc' ... OK
* checking running R code from vignettes ... SKIPPED
* checking re-building of vignettes ... SKIPPED
* checking PDF version of manual ... OK

NOTE: There were 2 notes.
See
  '/Users/biocbuild/bbs-2.12-bioc/meat/CMA.Rcheck/00check.log'
for details.

CMA.Rcheck/00install.out:

* installing *source* package 'CMA' ...
** R
** data
** inst
** preparing package for lazy loading
** help
*** installing help indices
** building package indices
** installing vignettes
   'CMA_vignette.rnw' 
** testing if installed package can be loaded
* DONE (CMA)

CMA.Rcheck/CMA-Ex.timings:

nameusersystemelapsed
ElasticNetCMA5.5090.2165.796
GeneSelection0.2580.0590.320
GenerateLearningsets0.0320.0110.043
LassoCMA1.0110.0701.086
Planarplot0.3080.0300.340
classification0.0150.0120.027
compBoostCMA1.9730.1682.159
compare0.0090.0110.020
dldaCMA0.2950.0480.345
evaluation0.2190.0250.245
fdaCMA0.1740.0330.210
flexdaCMA0.3060.0380.374
gbmCMA4.2760.0764.371
golub0.0510.0100.061
khan0.0660.0100.076
knnCMA0.5960.0440.642
ldaCMA0.1870.0360.251
nnetCMA0.1560.0320.198
pknnCMA0.1850.0270.226
plrCMA0.6040.0760.686
pls_ldaCMA0.5190.0410.563
pls_lrCMA0.4690.0380.510
pls_rfCMA0.1200.0240.145
pnnCMA0.0750.0240.100
prediction0.0090.0100.019
qdaCMA0.1990.0390.240
rfCMA0.1310.0180.149
scdaCMA0.1780.0260.205
shrinkldaCMA0.2120.0330.247
svmCMA1.0030.0661.085
tune0.0140.0090.022