BaseSpaceR 0.99.4 Adrian Alexa
 | Snapshot Date: 2013-03-24 17:01:43 -0700 (Sun, 24 Mar 2013) |  | URL: https://hedgehog.fhcrc.org/bioconductor/trunk/madman/Rpacks/BaseSpaceR |  | Last Changed Rev: 74711 / Revision: 74774 |  | Last Changed Date: 2013-03-22 15:40:44 -0700 (Fri, 22 Mar 2013) |  
  | george2  | Linux (Ubuntu 12.04.1 LTS) / x86_64  |  OK  |  OK  |  | 
| moscato2  | Windows Server 2008 R2 Enterprise SP1 (64-bit) / x64  |  OK  |  OK  |  OK  | 
| petty  | Mac OS X Leopard (10.5.8) / i386  |  OK  |  OK  | [ OK ] | 
>>>>>>> 
>>>>>>> INSTALLATION WITH 'R CMD INSTALL --preclean --no-multiarch --library=BaseSpaceR.buildbin-libdir BaseSpaceR_0.99.4.tar.gz'
>>>>>>> 
* installing *source* package 'BaseSpaceR' ...
** R
** data
** inst
** preparing package for lazy loading
** help
*** installing help indices
** building package indices
** installing vignettes
   'BaseSpaceR.Rnw' 
** testing if installed package can be loaded
* DONE (BaseSpaceR)