| AffyCompatible 1.19.4 Martin Morgan
 
 | Snapshot Date: 2013-03-24 17:01:43 -0700 (Sun, 24 Mar 2013) |  | URL: https://hedgehog.fhcrc.org/bioconductor/trunk/madman/Rpacks/AffyCompatible |  | Last Changed Rev: 74771 / Revision: 74774 |  | Last Changed Date: 2013-03-24 14:20:12 -0700 (Sun, 24 Mar 2013) | 
 | george2 | Linux (Ubuntu 12.04.1 LTS) / x86_64 | OK | OK |  | 
| moscato2 | Windows Server 2008 R2 Enterprise SP1 (64-bit) / x64 | OK | OK | OK | 
| petty | Mac OS X Leopard (10.5.8) / i386 | OK | OK | [ OK ] | 
>>>>>>> 
>>>>>>> INSTALLATION WITH 'R CMD INSTALL --preclean --no-multiarch --library=AffyCompatible.buildbin-libdir AffyCompatible_1.19.4.tar.gz'
>>>>>>> 
* installing *source* package 'AffyCompatible' ...
** R
** inst
** preparing package for lazy loading
** help
*** installing help indices
** building package indices
** installing vignettes
   'MAGEAndARR.Rnw' 
   'NetAffxResource.Rnw' 
** testing if installed package can be loaded
* DONE (AffyCompatible)