Back to the "Multiple platform build/check report"[A] B  C  D  E  F  G  H  I  J  K  L  M  N  O  P  Q  R  S  T  U  V  W  X  Y  Z 

Package 9/658HostnameOS / ArchBUILDCHECKBUILD BIN
ACME 2.15.0
Sean Davis
Snapshot Date: 2013-03-23 17:02:20 -0700 (Sat, 23 Mar 2013)
URL: https://hedgehog.fhcrc.org/bioconductor/trunk/madman/Rpacks/ACME
Last Changed Rev: 70052 / Revision: 74756
Last Changed Date: 2012-10-01 15:43:56 -0700 (Mon, 01 Oct 2012)
george2 Linux (Ubuntu 12.04.1 LTS) / x86_64  OK  OK 
moscato2 Windows Server 2008 R2 Enterprise SP1 (64-bit) / x64  OK  OK  OK 
petty Mac OS X Leopard (10.5.8) / i386  OK  OK  OK 
pelham Mac OS X Snow Leopard (10.6.8) / x86_64  OK  OK [ OK ]

Summary

Package: ACME
Version: 2.15.0
Command: rm -rf ACME.buildbin-libdir && mkdir ACME.buildbin-libdir && /Library/Frameworks/R.framework/Versions/Current/Resources/bin/R CMD INSTALL --build --no-multiarch --library=ACME.buildbin-libdir ACME_2.15.0.tar.gz
StartedAt: 2013-03-24 11:21:49 -0700 (Sun, 24 Mar 2013)
EndedAt: 2013-03-24 11:22:07 -0700 (Sun, 24 Mar 2013)
EllapsedTime: 17.5 seconds
RetCode: 0
Status:  OK 
PackageFile: ACME_2.15.0.tgz
PackageFileSize: 9.508 MiB

Command output

* installing *source* package 'ACME' ...
** libs
llvm-gcc-4.2 -arch x86_64 -std=gnu99 -I/Library/Frameworks/R.framework/Resources/include -DNDEBUG  -I/usr/local/include    -fPIC  -mtune=core2 -g -O2  -c windowChisq.c -o windowChisq.o
windowChisq.c:86: warning: initialization from incompatible pointer type
llvm-gcc-4.2 -arch x86_64 -std=gnu99 -dynamiclib -Wl,-headerpad_max_install_names -undefined dynamic_lookup -single_module -multiply_defined suppress -L/usr/local/lib -o ACME.so windowChisq.o -F/Library/Frameworks/R.framework/.. -framework R -Wl,-framework -Wl,CoreFoundation
installing to /Users/biocbuild/bbs-2.12-bioc/meat/ACME.buildbin-libdir/ACME/libs
** R
** data
** inst
** preparing package for lazy loading
Creating a generic function for 'print' from package 'base' in package 'ACME'
** help
*** installing help indices
** building package indices
** installing vignettes
   'ACME.Rnw' 
** testing if installed package can be loaded
packaged installation of 'ACME' as 'ACME_2.15.0.tgz'
* DONE (ACME)