Back to the "Multiple platform build/check report" |
Package 121/133 | Hostname | OS / Arch | BUILD | CHECK | BUILD BIN | ||||
synapterdata 0.99.3 Laurent Gatto
| lamb1 | Linux (openSUSE 12.1) / x86_64 | OK | OK | |||||
moscato1 | Windows Server 2008 R2 Enterprise SP1 (64-bit) / x64 | [ OK ] | OK | OK | |||||
perceval | Mac OS X Leopard (10.5.8) / i386 | OK | OK | OK |
Package: synapterdata |
Version: 0.99.3 |
Command: chmod a+r synapterdata -R && D:\biocbld\bbs-2.11-bioc\R\bin\R.exe CMD build --keep-empty-dirs --no-resave-data synapterdata |
StartedAt: 2013-03-24 11:40:33 -0700 (Sun, 24 Mar 2013) |
EndedAt: 2013-03-24 11:42:19 -0700 (Sun, 24 Mar 2013) |
EllapsedTime: 105.7 seconds |
RetCode: 0 |
Status: OK |
PackageFile: synapterdata_0.99.3.tar.gz |
PackageFileSize: 411.8 MiB |
* checking for file 'synapterdata/DESCRIPTION' ... OK * preparing 'synapterdata': * checking DESCRIPTION meta-information ... OK * checking for LF line-endings in source and make files * checking for empty or unneeded directories * looking to see if a 'data/datalist' file should be added * building 'synapterdata_0.99.3.tar.gz'