lungExpression 0.0.13 Robert Scharpf
 | Snapshot Date: 2012-06-21 11:15:08 -0700 (Thu, 21 Jun 2012) |  | URL: https://hedgehog.fhcrc.org/bioc-data/trunk/experiment/pkgs/lungExpression |  | Last Changed Rev: 2037 / Revision: 2088 |  | Last Changed Date: 2012-03-30 15:20:09 -0700 (Fri, 30 Mar 2012) |  
  | lamb1  | Linux (openSUSE 12.1) / x86_64  |  OK  |  OK  |  | 
| moscato1  | Windows Server 2008 R2 Enterprise SP1 (64-bit) / x64  |  OK  |  OK  |  OK  | 
| pitt  | Mac OS X Leopard (10.5.8) / i386  | [ OK ] |  OK  |  OK  | 
| perceval  | Mac OS X Leopard (10.5.8) / i386  |  OK  |  OK  |  OK  | 
* checking for file 'lungExpression/DESCRIPTION' ... OK
* preparing 'lungExpression':
* checking DESCRIPTION meta-information ... OK
* checking for LF line-endings in source and make files
* checking for empty or unneeded directories
* looking to see if a 'data/datalist' file should be added
* building 'lungExpression_0.0.13.tar.gz'