leeBamViews 0.99.20 VJ Carey
Snapshot Date: 2013-01-10 09:15:17 -0800 (Thu, 10 Jan 2013) | URL: https://hedgehog.fhcrc.org/bioc-data/trunk/experiment/pkgs/leeBamViews | Last Changed Rev: 2168 / Revision: 2187 | Last Changed Date: 2012-10-01 10:57:19 -0700 (Mon, 01 Oct 2012) |
| lamb1 | Linux (openSUSE 12.1) / x86_64 | OK | OK | |
moscato1 | Windows Server 2008 R2 Enterprise SP1 (64-bit) / x64 | OK | OK | OK |
perceval | Mac OS X Leopard (10.5.8) / i386 | OK | OK | [ OK ] |
>>>>>>>
>>>>>>> INSTALLATION WITH 'R CMD INSTALL --preclean --no-multiarch --library=leeBamViews.buildbin-libdir leeBamViews_0.99.20.tar.gz'
>>>>>>>
* installing *source* package 'leeBamViews' ...
** R
** data
** inst
** preparing package for lazy loading
** help
*** installing help indices
** building package indices
** installing vignettes
'leeViews.Rnw'
** testing if installed package can be loaded
* DONE (leeBamViews)