Back to the "Multiple platform build/check report" |
Package 31/133 | Hostname | OS / Arch | BUILD | CHECK | BUILD BIN | ||||
davidTiling 1.2.16 Wolfgang Huber
| lamb1 | Linux (openSUSE 12.1) / x86_64 | OK | OK | |||||
moscato1 | Windows Server 2008 R2 Enterprise SP1 (64-bit) / x64 | OK | OK | OK | |||||
perceval | Mac OS X Leopard (10.5.8) / i386 | OK | OK | [ OK ] |
Package: davidTiling |
Version: 1.2.16 |
Command: rm -rf davidTiling.buildbin-libdir && mkdir davidTiling.buildbin-libdir && /Users/biocbuild/BBS/utils/build-universal.sh davidTiling_1.2.16.tar.gz /Library/Frameworks/R.framework/Versions/2.15/Resources/bin/R davidTiling.buildbin-libdir |
StartedAt: 2013-03-24 12:49:25 -0700 (Sun, 24 Mar 2013) |
EndedAt: 2013-03-24 12:55:10 -0700 (Sun, 24 Mar 2013) |
EllapsedTime: 344.3 seconds |
RetCode: 0 |
Status: OK |
PackageFile: davidTiling_1.2.16.tgz |
PackageFileSize: 537.7 MiB |
>>>>>>> >>>>>>> INSTALLATION WITH 'R CMD INSTALL --preclean --no-multiarch --library=davidTiling.buildbin-libdir davidTiling_1.2.16.tar.gz' >>>>>>> * installing *source* package 'davidTiling' ... ** R ** data ** inst ** preparing package for lazy loading ** help *** installing help indices ** building package indices ** installing vignettes ** testing if installed package can be loaded * DONE (davidTiling)