Back to the "Multiple platform build/check report" | A B C D E F G H I J K L M N O [P] Q R S T U V W X Y Z |
Package 431/609 | Hostname | OS / Arch | BUILD | CHECK | BUILD BIN | ||||
pathRender 1.26.0 Li Long
| lamb1 | Linux (openSUSE 12.1) / x86_64 | [ OK ] | OK | |||||
moscato1 | Windows Server 2008 R2 Enterprise SP1 (64-bit) / x64 | OK | OK | OK | |||||
perceval | Mac OS X Leopard (10.5.8) / i386 | OK | OK | OK |
Package: pathRender |
Version: 1.26.0 |
Command: /home/biocbuild/bbs-2.11-bioc/R/bin/R CMD build --keep-empty-dirs --no-resave-data pathRender |
StartedAt: 2013-03-24 19:54:17 -0700 (Sun, 24 Mar 2013) |
EndedAt: 2013-03-24 19:54:41 -0700 (Sun, 24 Mar 2013) |
EllapsedTime: 24.6 seconds |
RetCode: 0 |
Status: OK |
PackageFile: pathRender_1.26.0.tar.gz |
PackageFileSize: 195.9 KiB |
* checking for file ‘pathRender/DESCRIPTION’ ... OK * preparing ‘pathRender’: * checking DESCRIPTION meta-information ... OK * installing the package to re-build vignettes * creating vignettes ... OK * checking for LF line-endings in source and make files * checking for empty or unneeded directories WARNING: directory ‘pathRender/inst/misc’ is empty * building ‘pathRender_1.26.0.tar.gz’