oligoClasses 1.19.3 Benilton Carvalho  and Robert Scharpf
 | Snapshot Date: 2012-06-20 15:22:40 -0700 (Wed, 20 Jun 2012) |  | URL: https://hedgehog.fhcrc.org/bioconductor/trunk/madman/Rpacks/oligoClasses |  | Last Changed Rev: 65314 / Revision: 66885 |  | Last Changed Date: 2012-04-20 09:41:28 -0700 (Fri, 20 Apr 2012) |  
  | lamb1  | Linux (openSUSE 12.1) / x86_64  |  OK  |  WARNINGS  |  | 
| moscato1  | Windows Server 2008 R2 Enterprise SP1 (64-bit) / x64  |  OK  |  WARNINGS  |  OK  | 
| pitt  | Mac OS X Leopard (10.5.8) / i386  |  OK  |  WARNINGS  | [ OK ] | 
| perceval  | Mac OS X Leopard (10.5.8) / i386  |  OK  |  WARNINGS  |  OK  | 
>>>>>>> 
>>>>>>> INSTALLATION WITH 'R CMD INSTALL --preclean --no-multiarch --library=oligoClasses.buildbin-libdir oligoClasses_1.19.3.tar.gz'
>>>>>>> 
* installing *source* package 'oligoClasses' ...
** R
** data
** inst
** preparing package for lazy loading
Creating a generic function for 'open' from package 'base' in package 'oligoClasses'
Creating a generic function for 'close' from package 'base' in package 'oligoClasses'
Creating a generic function for 'mean' from package 'base' in package 'oligoClasses'
** help
*** installing help indices
** building package indices
** installing vignettes
** testing if installed package can be loaded
* DONE (oligoClasses)