| maskBAD 1.1.0 Michael Dannemann
 
 | Snapshot Date: 2012-06-20 15:22:40 -0700 (Wed, 20 Jun 2012) |  | URL: https://hedgehog.fhcrc.org/bioconductor/trunk/madman/Rpacks/maskBAD |  | Last Changed Rev: 65207 / Revision: 66885 |  | Last Changed Date: 2012-04-17 03:40:39 -0700 (Tue, 17 Apr 2012) | 
 | lamb1 | Linux (openSUSE 12.1) / x86_64 | OK | OK |  | 
| moscato1 | Windows Server 2008 R2 Enterprise SP1 (64-bit) / x64 | OK | OK | OK | 
| pitt | Mac OS X Leopard (10.5.8) / i386 | OK | OK | [ OK ] | 
| perceval | Mac OS X Leopard (10.5.8) / i386 | OK | OK | OK | 
>>>>>>> 
>>>>>>> INSTALLATION WITH 'R CMD INSTALL --preclean --no-multiarch --library=maskBAD.buildbin-libdir maskBAD_1.1.0.tar.gz'
>>>>>>> 
* installing *source* package 'maskBAD' ...
** R
** data
** inst
** preparing package for lazy loading
No methods found in "Biobase" for requests: geneNames
** help
*** installing help indices
** building package indices
** installing vignettes
   'maskBAD.Rnw' 
** testing if installed package can be loaded
No methods found in "Biobase" for requests: geneNames
* DONE (maskBAD)