| maigesPack 1.21.2 Gustavo H. Esteves
 
 | Snapshot Date: 2012-06-20 15:22:40 -0700 (Wed, 20 Jun 2012) |  | URL: https://hedgehog.fhcrc.org/bioconductor/trunk/madman/Rpacks/maigesPack |  | Last Changed Rev: 65510 / Revision: 66885 |  | Last Changed Date: 2012-04-27 14:19:15 -0700 (Fri, 27 Apr 2012) | 
 | lamb1 | Linux (openSUSE 12.1) / x86_64 | OK | OK |  | 
| moscato1 | Windows Server 2008 R2 Enterprise SP1 (64-bit) / x64 | OK | ERROR | OK | 
| pitt | Mac OS X Leopard (10.5.8) / i386 | [ OK ] | OK | OK | 
| perceval | Mac OS X Leopard (10.5.8) / i386 | OK | OK | OK | 
* checking for file 'maigesPack/DESCRIPTION' ... OK
* preparing 'maigesPack':
* checking DESCRIPTION meta-information ... OK
* cleaning src
* installing the package to re-build vignettes
* creating vignettes ... OK
* cleaning src
* checking for LF line-endings in source and make files
* checking for empty or unneeded directories
* looking to see if a 'data/datalist' file should be added
* building 'maigesPack_1.21.2.tar.gz'