lmdme 1.0.0 Cristobal Fresno
 | Snapshot Date: 2013-03-24 16:21:20 -0700 (Sun, 24 Mar 2013) |  | URL: https://hedgehog.fhcrc.org/bioconductor/branches/RELEASE_2_11/madman/Rpacks/lmdme |  | Last Changed Rev: 70050 / Revision: 74773 |  | Last Changed Date: 2012-10-01 15:16:24 -0700 (Mon, 01 Oct 2012) |  
  | lamb1  | Linux (openSUSE 12.1) / x86_64  |  OK  |  OK  |  | 
| moscato1  | Windows Server 2008 R2 Enterprise SP1 (64-bit) / x64  |  OK  |  OK  |  OK  | 
| perceval  | Mac OS X Leopard (10.5.8) / i386  |  OK  |  OK  | [ OK ] | 
>>>>>>> 
>>>>>>> INSTALLATION WITH 'R CMD INSTALL --preclean --no-multiarch --library=lmdme.buildbin-libdir lmdme_1.0.0.tar.gz'
>>>>>>> 
* installing *source* package 'lmdme' ...
** R
** inst
** preparing package for lazy loading
Creating a generic function for 'fitted.values' from package 'stats' in package 'lmdme'
Creating a generic function for 'fitted' from package 'stats' in package 'lmdme'
Creating a generic function for 'coef' from package 'stats' in package 'lmdme'
Creating a generic function for 'coefficients' from package 'stats' in package 'lmdme'
Creating a generic function for 'resid' from package 'stats' in package 'lmdme'
Creating a generic function for 'residuals' from package 'stats' in package 'lmdme'
Creating a generic function for 'print' from package 'base' in package 'lmdme'
Creating a generic function for 'summary' from package 'base' in package 'lmdme'
Creating a new generic function for 'p.adjust' in package 'lmdme'
Creating a generic function for 'biplot' from package 'stats' in package 'lmdme'
Creating a generic function for 'screeplot' from package 'stats' in package 'lmdme'
Creating a generic function for 'loadingplot' from package 'pls' in package 'lmdme'
** help
*** installing help indices
** building package indices
** installing vignettes
   'lmdme-vignette.Rnw' using 'latin1' 
** testing if installed package can be loaded
* DONE (lmdme)