inSilicoDb 1.7.4 Jonatan Taminau , David Steenhoff
 | Snapshot Date: 2013-03-24 16:21:20 -0700 (Sun, 24 Mar 2013) |  | URL: https://hedgehog.fhcrc.org/bioconductor/branches/RELEASE_2_11/madman/Rpacks/inSilicoDb |  | Last Changed Rev: 73418 / Revision: 74773 |  | Last Changed Date: 2013-02-12 10:09:18 -0800 (Tue, 12 Feb 2013) |  
  | lamb1  | Linux (openSUSE 12.1) / x86_64  | [ OK ] |  OK  |  | 
| moscato1  | Windows Server 2008 R2 Enterprise SP1 (64-bit) / x64  |  OK  |  OK  |  OK  | 
| perceval  | Mac OS X Leopard (10.5.8) / i386  |  OK  |  OK  |  OK  | 
* checking for file ‘inSilicoDb/DESCRIPTION’ ... OK
* preparing ‘inSilicoDb’:
* checking DESCRIPTION meta-information ... OK
* installing the package to re-build vignettes
* creating vignettes ... OK
* checking for LF line-endings in source and make files
* checking for empty or unneeded directories
* building ‘inSilicoDb_1.7.4.tar.gz’