| Back to the "Multiple platform build/check report" | A B C D [E] F G H I J K L M N O P Q R S T U V W X Y Z |
| Package 178/565 | Hostname | OS / Arch | BUILD | CHECK | BUILD BIN | ||||
| externalVector 1.23.0 Bioconductor Package Maintainer
| lamb1 | Linux (openSUSE 12.1) / x86_64 | OK | OK | |||||
| moscato1 | Windows Server 2008 R2 Enterprise SP1 (64-bit) / x64 | OK | OK | OK | |||||
| pitt | Mac OS X Leopard (10.5.8) / i386 | [ OK ] | OK | OK | |||||
| perceval | Mac OS X Leopard (10.5.8) / i386 | OK | OK | OK |
| Package: externalVector |
| Version: 1.23.0 |
| Command: /Library/Frameworks/R.framework/Versions/2.15/Resources/bin/R CMD build --keep-empty-dirs --no-resave-data externalVector |
| StartedAt: 2012-06-20 17:10:18 -0700 (Wed, 20 Jun 2012) |
| EndedAt: 2012-06-20 17:10:20 -0700 (Wed, 20 Jun 2012) |
| EllapsedTime: 1.8 seconds |
| RetCode: 0 |
| Status: OK |
| PackageFile: externalVector_1.23.0.tar.gz |
| PackageFileSize: 83.6 KiB |
* checking for file 'externalVector/DESCRIPTION' ... OK * preparing 'externalVector': * checking DESCRIPTION meta-information ... OK * cleaning src * checking for LF line-endings in source and make files * checking for empty or unneeded directories * building 'externalVector_1.23.0.tar.gz'